BEGIN:VCALENDAR
VERSION:2.0
PRODID:-//ChamberMaster//Event Calendar 2.0//EN
METHOD:PUBLISH
X-PUBLISHED-TTL:P3D
REFRESH-INTERVAL:P3D
CALSCALE:GREGORIAN
BEGIN:VEVENT
DTSTART:20150307T030000Z
DTEND:20150307T060000Z
X-MICROSOFT-CDO-ALLDAYEVENT:FALSE
SUMMARY:Four Shillings Short: Around The World in 30 Instruments
DESCRIPTION:Occidental Center for the Arts presents  Four Shillings Short: Around The World in 30 Instruments. Celtic\, folk and world music duo of Christy Martin and Aodh Og O’Tuama take you on a musical journey through time and across seas as they perform an amazingly diverse program of Irish tunes\, Medieval and Renaissance music to Indian ragas on over thirty instruments from hammered  dulcimer to  North Indian sitar. Don’t miss this fantastic “educational concert” by these accomplished international touring artists. $10 General/$5 School-age Children\; Free to Pre-K and under. Fine Refreshments . Wheelchair accessible.
X-ALT-DESC;FMTTYPE=text/html:Occidental Center for the Arts presents  Four Shillings Short: Around The World in 30 Instruments. Celtic\, folk and world music duo of Christy Martin and Aodh Og O’Tuama take you on a musical journey through time and across seas as they perform an amazingly diverse program of Irish tunes\, Medieval and Renaissance music to Indian ragas on over thirty instruments from hammered  dulcimer to  North Indian sitar. Don’t miss this fantastic “educational concert” by these accomplished international touring artists. $10 General/$5 School-age Children\; Free to Pre-K and under. Fine Refreshments . Wheelchair accessible.
LOCATION:Occidental Center for the Arts Bohemian Hwy.@ Graton Rd.\, Occidental
UID:e.3189.32153
SEQUENCE:3
DTSTAMP:20260420T053710Z
URL:https://business.sebastopol.org/events/details/four-shillings-short-around-the-world-in-30-instruments-03-06-2015-32153
END:VEVENT

END:VCALENDAR
