BEGIN:VCALENDAR
VERSION:2.0
PRODID:-//ChamberMaster//Event Calendar 2.0//EN
METHOD:PUBLISH
X-PUBLISHED-TTL:P3D
REFRESH-INTERVAL:P3D
CALSCALE:GREGORIAN
BEGIN:VEVENT
DTSTART:20150627T170000Z
DTEND:20150628T000000Z
X-MICROSOFT-CDO-ALLDAYEVENT:FALSE
SUMMARY:Giro Bello Cycling Event
DESCRIPTION:The Giro Bello\, a boutique cycling event\, offers three beautiful ride options through rolling hills\, senic wine country and cool redwoods. When your ride is finished\, enjoy the lively expo with live music and a complimentary meal from one of five delicious food vendors and a complimentary Lagunitas beer
X-ALT-DESC;FMTTYPE=text/html:The Giro Bello\, a boutique cycling event\, offers three beautiful ride options through rolling hills\, senic wine country and cool redwoods. When your ride is finished\, enjoy the lively expo with live music and a complimentary meal from one of five delicious food vendors and a complimentary Lagunitas beer
LOCATION:O’Reilly Media\, Sebastopol
UID:e.3189.5042534
SEQUENCE:3
DTSTAMP:20260420T003345Z
URL:https://business.sebastopol.org/events/details/giro-bello-cycling-event-06-27-2015-5042534
END:VEVENT

END:VCALENDAR
