BEGIN:VCALENDAR
VERSION:2.0
PRODID:-//ChamberMaster//Event Calendar 2.0//EN
METHOD:PUBLISH
X-PUBLISHED-TTL:P3D
REFRESH-INTERVAL:P3D
CALSCALE:GREGORIAN
BEGIN:VEVENT
DTSTART:20151009T160000Z
DTEND:20151010T230000Z
X-MICROSOFT-CDO-ALLDAYEVENT:FALSE
SUMMARY:Graton Community Club Fall Flower Show
DESCRIPTION:Graton Community Club Fall Flower Show\nand Plant Sale\n\nFriday and Saturday\, October 9-10\, 2015\n\n9am-4pm\n\n8996 Graton Road\, Graton\, CA\n\nFree Admission\n\n \n\nA “Symphony in Flowers” comes to Graton this fall at\nthe Graton Community Club as the members present their annual Fall Flower Show.\n\nIn the historic clubhouse in the heart of downtown\nGraton the members have created flower displays which combine the beauty of\nflowers with the magic of music. \n\n There will be a\nwide selection of plants for sale\, including many succulents\, cacti\, native\nplants\, drought tolerant plants and perennials. All are grown locally in West\nCounty for our show and are ready for fall planting. \n\nThis is a great plant sale\, which also includes garden\nart\, handcrafted novelties\, a raffle\, collectibles and live music.  Lunch with homemade deserts will be served\nboth days from 11-2 and desserts and coffee all day.\n\n\n\nThe club has been hosting flower shows since 1928. The\nshow benefits a scholarship program for local SRJC Graduates continuing on to\nfour-year colleges.\n\nwww.Graton CommunityClub.org
X-ALT-DESC;FMTTYPE=text/html:<!--  Visual Designer HTML --><p align="center" style="text-align:center"><span style="font-size:16px"><b>Graton Community Club Fall Flower Show\nand Plant Sale</b></span></p>\n\n<p align="center" style="text-align:center"><span style="font-size:16px"><b>Friday and Saturday\, October 9-10\, 2015</b></span></p>\n\n<p align="center" style="text-align:center"><span style="font-size:16px"><b>9am-4pm</b></span></p>\n\n<p align="center" style="text-align:center"><span style="font-size:16px"><b>8996 Graton Road\, Graton\, CA</b></span></p>\n\n<p align="center" style="text-align:center"><span style="font-size:16px"><b>Free Admission</b></span></p>\n\n<p align="center" style="text-align:center"><span style="font-size:16px"><b>&nbsp\;</b></span></p>\n\n<p style="text-align:justify\;text-justify:inter-ideograph"><span style="font-size:16px">A “Symphony in Flowers” comes to Graton this fall at\nthe Graton Community Club as the members present their annual Fall Flower Show.</span></p>\n\n<p style="text-align:justify\;text-justify:inter-ideograph"><span style="font-size:16px">In the historic clubhouse in the heart of downtown\nGraton the members have created flower displays which combine the beauty of\nflowers with the magic of music. </span></p>\n\n<p style="text-align:justify\;text-justify:inter-ideograph"><span style="font-size:16px">&nbsp\;There will be a\nwide selection of plants for sale\, including many succulents\, cacti\, native\nplants\, drought tolerant plants and perennials. All are grown locally in West\nCounty for our show and are ready for fall planting. </span></p>\n\n<p style="text-align:justify\;text-justify:inter-ideograph"><span style="font-size:16px">This is a great plant sale\, which also includes garden\nart\, handcrafted novelties\, a raffle\, collectibles and live music.&nbsp\; Lunch with homemade deserts will be served\nboth days from 11-2 and desserts and coffee all day.</span></p>\n\n\n\n<p style="text-align:justify\;text-justify:inter-ideograph"><span style="font-size:16px">The club has been hosting flower shows since 1928. The\nshow benefits a scholarship program for local SRJC Graduates continuing on to\nfour-year colleges.</span></p>\n\n<p align="center" style="text-align:center"><span style="font-size:16px">www.Graton CommunityClub.org</span></p>
LOCATION:Graton Community Club8996 Graton RdGraton
UID:e.3189.5042781
SEQUENCE:3
DTSTAMP:20260419T195312Z
URL:https://business.sebastopol.org/events/details/graton-community-club-fall-flower-show-10-09-2015-5042781
END:VEVENT

END:VCALENDAR
