BEGIN:VCALENDAR
VERSION:2.0
PRODID:-//ChamberMaster//Event Calendar 2.0//EN
METHOD:PUBLISH
X-PUBLISHED-TTL:P3D
REFRESH-INTERVAL:P3D
CALSCALE:GREGORIAN
BEGIN:VEVENT
DTSTART:20130426T160000Z
DTEND:20130427T230000Z
X-MICROSOFT-CDO-ALLDAYEVENT:FALSE
SUMMARY:Graton Community Club Spring Flower Show
DESCRIPTION:Bi-annual flower show and plant sale\; homemade gifts\, raffle\, collectibles for sale.  Lunch for $10\, coffee and dessert all day. Free and open 9-4.
X-ALT-DESC;FMTTYPE=text/html:Bi-annual flower show and plant sale\; homemade gifts\, raffle\, collectibles for sale.  Lunch for $10\, coffee and dessert all day. Free and open 9-4.
LOCATION:Graton Community Clubhouse\, 8996 Graton Rd.\, Graton
UID:e.3189.5040390
SEQUENCE:3
DTSTAMP:20260421T221222Z
URL:https://business.sebastopol.org/events/details/graton-community-club-spring-flower-show-04-26-2013-5040390
END:VEVENT

END:VCALENDAR
