BEGIN:VCALENDAR
VERSION:2.0
PRODID:-//ChamberMaster//Event Calendar 2.0//EN
METHOD:PUBLISH
X-PUBLISHED-TTL:P3D
REFRESH-INTERVAL:P3D
CALSCALE:GREGORIAN
BEGIN:VEVENT
DTSTART:20121012T160000Z
DTEND:20121013T230000Z
X-MICROSOFT-CDO-ALLDAYEVENT:FALSE
SUMMARY:Graton Fall Flower Show & Bazaar
DESCRIPTION:Fabric\, Fiber\, and Flowers "The Graton Community Club will be hosting its annual fall flower show and plant sale on Friday and Saturday\, October 12 & 13\, 2012\, from 9-4 each day. The theme this year is "Fabric\, Fiber\, and Flowers\," and the floral exhibits will feature any or all of these categories. The show will be held at the historic clubhouse in downtown Graton at 8996 Graton Rd.\, about 3 miles north of Sebastopol. A fabulous lunch will be offered for $10\, including beverage and dessert\, but admission to the show is free. A great plant sale is planned\, in addition to sales of hand crafted items\, unique collectibles\, and a raffle. Proceeds benefit the local college scholarship program and the building fund."
X-ALT-DESC;FMTTYPE=text/html:Fabric\, Fiber\, and Flowers "The Graton Community Club will be hosting its annual fall flower show and plant sale on Friday and Saturday\, October 12 & 13\, 2012\, from 9-4 each day. The theme this year is "Fabric\, Fiber\, and Flowers\," and the floral exhibits will feature any or all of these categories. The show will be held at the historic clubhouse in downtown Graton at 8996 Graton Rd.\, about 3 miles north of Sebastopol. A fabulous lunch will be offered for $10\, including beverage and dessert\, but admission to the show is free. A great plant sale is planned\, in addition to sales of hand crafted items\, unique collectibles\, and a raffle. Proceeds benefit the local college scholarship program and the building fund."
LOCATION:8996 Graton Rd Graton CA
UID:e.3189.10468
SEQUENCE:3
DTSTAMP:20260422T070949Z
URL:https://business.sebastopol.org/events/details/graton-fall-flower-show-bazaar-10-12-2012-10468
END:VEVENT

END:VCALENDAR
