BEGIN:VCALENDAR
VERSION:2.0
PRODID:-//ChamberMaster//Event Calendar 2.0//EN
METHOD:PUBLISH
X-PUBLISHED-TTL:P3D
REFRESH-INTERVAL:P3D
CALSCALE:GREGORIAN
BEGIN:VEVENT
DTSTART:20150711T200000Z
DTEND:20150711T230000Z
X-MICROSOFT-CDO-ALLDAYEVENT:FALSE
SUMMARY:Graton Ridge Cellars Announces Release of Bella’s Blush Wine
DESCRIPTION:Graton\nRidge Cellars will be releasing its latest wine\, Bella’s Blush\, at a special\nevent at the winery on Saturday\, July 11\, 2015\, from 1:00-4:00 pm. This\nrefreshing Ros  of Pinot Noir is named after Graton Ridge’s well-known border\ncollie. Bella is pictured in Winery Dogs of Sonoma County and is\nfeatured in a YouTube video “Bella Gets a Gopher.”Dogs\nare welcome to come and meet Bella\, chase balls with her\, and munch on dog\ntreats. Hot dogs will be served in the beautiful picnic area and the bocce\ncourt will be available.Admission\nis $10 at the door. All admission fees will be donated to the Sonoma County\nHumane Society.
X-ALT-DESC;FMTTYPE=text/html:<!--  Visual Designer HTML --><span style="font-size:16px">Graton\nRidge Cellars will be releasing its latest wine\, Bella’s Blush\, at a special\nevent at the winery on Saturday\, July 11\, 2015\, from 1:00-4:00 pm. This\nrefreshing Ros&#233\; of Pinot Noir is named after Graton Ridge’s well-known border\ncollie. Bella is pictured in </span><span style="font-size:16px"><i>Winery Dogs of Sonoma County</i></span><span style="font-size:16px"> and is\nfeatured in a YouTube video “Bella Gets a Gopher.”</span><p><span style="font-size:16px">Dogs\nare welcome to come and meet Bella\, chase balls with her\, and munch on dog\ntreats. Hot dogs will be served in the beautiful picnic area and the bocce\ncourt will be available.</span></p><span style="font-size:16px"></span><p><span style="font-size:16px">Admission\nis $10 at the door. All admission fees will be donated to the Sonoma County\nHumane Society.</span></p>
LOCATION:Graton Ridge Cellars3561 Gravenstein Highway North\, Sebastopol
UID:e.3189.5042630
SEQUENCE:3
DTSTAMP:20260419T231734Z
URL:https://business.sebastopol.org/events/details/graton-ridge-cellars-announces-release-of-bella-s-blush-wine-07-11-2015-5042630
END:VEVENT

END:VCALENDAR
