BEGIN:VCALENDAR
VERSION:2.0
PRODID:-//ChamberMaster//Event Calendar 2.0//EN
METHOD:PUBLISH
X-PUBLISHED-TTL:P3D
REFRESH-INTERVAL:P3D
CALSCALE:GREGORIAN
BEGIN:VEVENT
DTSTART:20150424T160000Z
DTEND:20150425T230000Z
X-MICROSOFT-CDO-ALLDAYEVENT:FALSE
SUMMARY:Graton Spring Flower Show and Sale
DESCRIPTION:“The Graton Community Club is hosting its spring flower show\, April 24th an 25th with the theme of “Down the Rabbit Hole.”  Creative floral displays will feature the member’s imaginations\, and there will be a great plant sale with native and succulent plants\, veggie starts\, and creative garden art.  Additionally\, we will have a crafts and novelties booth\, raffle of many items\, a collectables sale and live music.  The event is free but a tasty lunch will be available 11am - 2pm as ell as beverages and desserts all day.  Admission is FREE.
X-ALT-DESC;FMTTYPE=text/html:“The Graton Community Club is hosting its spring flower show\, April 24th an 25th with the theme of “Down the Rabbit Hole.”  Creative floral displays will feature the member’s imaginations\, and there will be a great plant sale with native and succulent plants\, veggie starts\, and creative garden art.  Additionally\, we will have a crafts and novelties booth\, raffle of many items\, a collectables sale and live music.  The event is free but a tasty lunch will be available 11am - 2pm as ell as beverages and desserts all day.  Admission is FREE.
LOCATION:Graton Community Club 8996 Graton Road Graton CA
UID:e.3189.32315
SEQUENCE:3
DTSTAMP:20260420T041104Z
URL:https://business.sebastopol.org/events/details/graton-spring-flower-show-and-sale-04-24-2015-32315
END:VEVENT

END:VCALENDAR
