BEGIN:VCALENDAR
VERSION:2.0
PRODID:-//ChamberMaster//Event Calendar 2.0//EN
METHOD:PUBLISH
X-PUBLISHED-TTL:P3D
REFRESH-INTERVAL:P3D
CALSCALE:GREGORIAN
BEGIN:VEVENT
DTSTART:20150808T170000Z
DTEND:20150810T010000Z
X-MICROSOFT-CDO-ALLDAYEVENT:FALSE
SUMMARY:Gravenstein Apple Fair
DESCRIPTION:Join us for a weekend of old-fashioned fun under the shade of majestic oaks in Ragle Ranch Park There’s something for everyone: live music on 2 stages\, arts & crafts vendors\, excellent local food\, wine\, cider & beer\, contests & activities\, children’s corner\, chef’s tent\, artisan cheese tent\, do-it-yourself tent\, life on the farm arena and of course our famous heirloom Gravenstein apples.
X-ALT-DESC;FMTTYPE=text/html:Join us for a weekend of old-fashioned fun under the shade of majestic oaks in Ragle Ranch Park There’s something for everyone: live music on 2 stages\, arts & crafts vendors\, excellent local food\, wine\, cider & beer\, contests & activities\, children’s corner\, chef’s tent\, artisan cheese tent\, do-it-yourself tent\, life on the farm arena and of course our famous heirloom Gravenstein apples.
LOCATION:Ragle Ranch Park - 500 Ragle Road\, Sebastopol
UID:e.3189.5042230
SEQUENCE:3
DTSTAMP:20260419T210009Z
URL:https://business.sebastopol.org/events/details/gravenstein-apple-fair-08-08-2015-5042230
END:VEVENT

END:VCALENDAR
