BEGIN:VCALENDAR
VERSION:2.0
PRODID:-//ChamberMaster//Event Calendar 2.0//EN
METHOD:PUBLISH
X-PUBLISHED-TTL:P3D
REFRESH-INTERVAL:P3D
CALSCALE:GREGORIAN
BEGIN:VEVENT
DTSTART:20140809T170000Z
DTEND:20140810T000000Z
X-MICROSOFT-CDO-ALLDAYEVENT:FALSE
SUMMARY:Gravenstein Apple Fair
DESCRIPTION:The 41st Gravenstein Apple Fair will be held on August 9th and 10th under the shade of majestic oaks in Ragle Ranch Park in Sebastopol. Join us for a weekend of old-fashioned fun.\nThere’s something for everyone: live music on 2 stages\, arts & crafts vendors\, excellent local food\, wine\, cider & beer\, contests & activities\, children’s corner\, chef’s tent\, artisan cheese tent\, do-it-yourself tent\, life on the farm arena and of course our famous heirloom gravenstein apples.
X-ALT-DESC;FMTTYPE=text/html:The 41st Gravenstein Apple Fair will be held on August 9th and 10th under the shade of majestic oaks in Ragle Ranch Park in Sebastopol. Join us for a weekend of old-fashioned fun.\nThere’s something for everyone: live music on 2 stages\, arts & crafts vendors\, excellent local food\, wine\, cider & beer\, contests & activities\, children’s corner\, chef’s tent\, artisan cheese tent\, do-it-yourself tent\, life on the farm arena and of course our famous heirloom gravenstein apples.
LOCATION:Ragle Ranch Park 500 Ragle Road Sebastopol\, CA
UID:e.3189.5041476
SEQUENCE:3
DTSTAMP:20260419T123138Z
URL:https://business.sebastopol.org/events/details/gravenstein-apple-fair-08-09-2014-5041476
END:VEVENT

END:VCALENDAR
