BEGIN:VCALENDAR
VERSION:2.0
PRODID:-//ChamberMaster//Event Calendar 2.0//EN
METHOD:PUBLISH
X-PUBLISHED-TTL:P3D
REFRESH-INTERVAL:P3D
CALSCALE:GREGORIAN
BEGIN:VEVENT
DTSTART:20150815T000000Z
DTEND:20150815T020000Z
X-MICROSOFT-CDO-ALLDAYEVENT:FALSE
SUMMARY:Gravenstein Community Health Center - Open House
DESCRIPTION:Please join West County Health Centers in celebrating National Health Centers Week at the Gravenstein Community Health Center Open House\, with our many friends and supporters on Friday\, August 14th from 5-7pm. \n\nLight refreshments\, wonderful company\, delightful\nconversations and tours of our facility will be provided. The program for the\nevening will begin at 5:30pm and will include many special guests and elected\nofficials.\n\nThe Gravenstein Community Health Center is West County Health Centers’ newest and second site in Sebastopol.  This year marks the 50th Anniversary of the National Community Health Center Movement and our theme is “Celebrating our Legacy\, Shaping our Future”.\n\nWest County Health Centers envisions healthy communities building relationships and partnerships that support health and wellbeing for all people. Please visit our website www.wchealth.org to learn more. \n\nCommunity Partner Sponsorships for businesses and philanthropic foundations are available at platinum\, gold\, and silver levels. Please contact Jennifer Neeley at 707-869-5977 ext. 3313.  \n\n$100 Individual sponsorship for the open house event can be purchased online or you may download the sponsorship form and mail it in. Sponsorships of $100 or more will be posted during the open house and feature the donors recognition name.   \n\nAll donations and sponsorships support medical\,\ndental\, and mental health care for our low income and uninsured patients at\nWest County Health Centers. \n\nThank you to our Gold Level Sponsors and Community\nPartners:\n\nPacific Gas & Electric Company
X-ALT-DESC;FMTTYPE=text/html:<!--  Visual Designer HTML --><p><span style="font-size: 12pt\; line-height: 107%">Please join West County Health Centers in celebrating National Health Centers Week at the </span><a href="http://wchealth.celebrations.com/GCHC"><span style="font-size: 12pt\; line-height: 107%">Gravenstein Community Health Center Open House</span></a><span style="font-size: 12pt\; line-height: 107%">\, with our many friends and supporters on Friday\, August 14th from 5-7pm.&nbsp\;</span></p>\n\n<p><span style="font-size: 12pt\; line-height: 107%">Light refreshments\, wonderful company\, delightful\nconversations and tours of our facility will be provided. The program for the\nevening will begin at 5:30pm and will include many special guests and elected\nofficials.</span></p>\n\n<p><span style="font-size: 12pt\; line-height: 107%">The Gravenstein Community Health Center is West County Health Centers’ newest and second site in Sebastopol.&nbsp\; This year marks the 50th Anniversary of the National Community Health Center Movement and our theme is “Celebrating our Legacy\, Shaping our Future”.</span></p>\n\n<p><span style="font-size: 12pt\; line-height: 107%">West County Health Centers envisions healthy communities building relationships and partnerships that support health and wellbeing for all people. Please visit our website </span><a href="http://www.wchealth.org/news/events"><span style="font-size: 12pt\; line-height: 107%">www.wchealth.org</span></a><span style="font-size: 12pt\; line-height: 107%"> to learn more.&nbsp\;</span></p>\n\n<p><a href="https://assets-production-webvanta-com.s3-us-west-2.amazonaws.com/000000/49/69/original/Sponsorship%20packet%202015%20GCHC.FINAL.Web.pdf"><span style="font-size: 12pt\; line-height: 107%">Community Partner Sponsorships</span></a><span style="font-size: 12pt\; line-height: 107%"> for businesses and philanthropic foundations are available at platinum\, gold\, and silver levels. Please contact Jennifer Neeley at 707-869-5977 ext. 3313.&nbsp\;&nbsp\;</span></p>\n\n<p><a href="http://www.wchealth.org/uploads/event/1435701869-4f767fd42f393ee86/GCHC%20OH%202015.indiv.sponsorship.web.pdf"><span style="font-size: 12pt\; line-height: 107%">$100 Individual sponsorship</span></a><span style="font-size: 12pt\; line-height: 107%"> for the open house event can be purchased online or you may download the sponsorship form and mail it in. Sponsorships of $100 or more will be posted during the open house and feature the donors recognition name.&nbsp\;&nbsp\;&nbsp\;</span></p>\n\n<p><span style="font-size: 12pt\; line-height: 107%">All donations and sponsorships support medical\,\ndental\, and mental health care for our low income and uninsured patients at\nWest County Health Centers. </span></p>\n\n<p><span style="font-size: 12pt\; line-height: 107%">Thank you to our Gold Level Sponsors and Community\nPartners:</span></p>\n\n<p><span style="font-size: 12pt\; line-height: 107%">Pacific Gas &amp\; Electric Company</span></p>
LOCATION:Gravenstein Community Health Center652 Petaluma Avenue\, Suite HSebastopol\, CA 95472 www.wchealth.org
UID:e.3189.5042594
SEQUENCE:3
DTSTAMP:20260419T225535Z
URL:https://business.sebastopol.org/events/details/gravenstein-community-health-center-open-house-08-14-2015-5042594
END:VEVENT

END:VCALENDAR
