BEGIN:VCALENDAR
VERSION:2.0
PRODID:-//ChamberMaster//Event Calendar 2.0//EN
METHOD:PUBLISH
X-PUBLISHED-TTL:P3D
REFRESH-INTERVAL:P3D
CALSCALE:GREGORIAN
BEGIN:VEVENT
DTSTART:20150221T180000Z
DTEND:20150222T060000Z
X-MICROSOFT-CDO-ALLDAYEVENT:FALSE
SUMMARY:Guide to a Successful Remodel: Navigating Decisions
DESCRIPTION:Guide to a Successful Remodeling Project: Navigating Design & Selections\n\nWith every remodel\, there are hundreds of decisions to be made. With even a relatively small project\, the process can be daunting.  Join us Saturday\, Feb 21st at 10 am to learn how to make the best decisions when planning your project and understand the different ways to approach the remodeling process as a whole.\n\n•	You will learn about the design process\, from developing a design concept to selecting finish materials.  \n•	We’ll help you understand how to get the “biggest bang for your buck” when you remodel. \n•	You’ll learn that a beautiful remodel takes careful planning and we’ll show you the most effective planning steps. \nOur workshops are free\, always fun\, and we will have delicious snacks. \nBecause space is limited\, advance registration is required.  \nRegister online at http://www.leffconstruction.com/events/guide-successful-remodeling-project-navigating-design-selections or call us at (707) 823-4899.\nWe hope to see you there! \n\nWhen + Where:\nSaturday\, Feb 21st\, 10:00 am – 12:00 pm\n  \nLeff Design Center\n2661 Gravenstein Hwy South\, Suite B\, Sebastopol\n(3 miles south of downtown Sebastopol\, next to the Antique Society)\n\nLeff Construction is a successful\, high-end residential remodeling and new home Design/Build construction company. We have been delighting customers with quality\, integrity and unparalleled customer service for over 30 years.
X-ALT-DESC;FMTTYPE=text/html:Guide to a Successful Remodeling Project: Navigating Design & Selections\n\nWith every remodel\, there are hundreds of decisions to be made. With even a relatively small project\, the process can be daunting.  Join us Saturday\, Feb 21st at 10 am to learn how to make the best decisions when planning your project and understand the different ways to approach the remodeling process as a whole.\n\n•	You will learn about the design process\, from developing a design concept to selecting finish materials.  \n•	We’ll help you understand how to get the “biggest bang for your buck” when you remodel. \n•	You’ll learn that a beautiful remodel takes careful planning and we’ll show you the most effective planning steps. \nOur workshops are free\, always fun\, and we will have delicious snacks. \nBecause space is limited\, advance registration is required.  \nRegister online at http://www.leffconstruction.com/events/guide-successful-remodeling-project-navigating-design-selections or call us at (707) 823-4899.\nWe hope to see you there! \n\nWhen + Where:\nSaturday\, Feb 21st\, 10:00 am – 12:00 pm\n  \nLeff Design Center\n2661 Gravenstein Hwy South\, Suite B\, Sebastopol\n(3 miles south of downtown Sebastopol\, next to the Antique Society)\n\nLeff Construction is a successful\, high-end residential remodeling and new home Design/Build construction company. We have been delighting customers with quality\, integrity and unparalleled customer service for over 30 years.
LOCATION:Leff Design Center 2661 Gravenstein Hwy South\, Suite B\, Sebastopol (3 miles south of downtown Sebastopol\, next to the Antique Society)
UID:e.3189.5042073
SEQUENCE:3
DTSTAMP:20260420T065823Z
URL:https://business.sebastopol.org/events/details/guide-to-a-successful-remodel-navigating-decisions-02-21-2015-5042073
END:VEVENT

END:VCALENDAR
