BEGIN:VCALENDAR
VERSION:2.0
PRODID:-//ChamberMaster//Event Calendar 2.0//EN
METHOD:PUBLISH
X-PUBLISHED-TTL:P3D
REFRESH-INTERVAL:P3D
CALSCALE:GREGORIAN
BEGIN:VEVENT
DTSTART:20130511T170000Z
DTEND:20130512T050000Z
X-MICROSOFT-CDO-ALLDAYEVENT:FALSE
SUMMARY:Guide to a Successful Remodeling Project
DESCRIPTION:Join us Saturday\, May 11th at 10 am to learn how to start your remodeling or building project.  \n\n“How do I begin?”  “How do I think about a budget?” \n“Can I get a beautiful project done within my budget?”\n\nSome of the topics we will touch on:\n•	Understanding the different ways to approach the remodeling process as a whole\, conventional vs. design/build\n•	Why thinking in terms of $ per square foot is not a reliable way to gauge the cost of a project.\n•	What does it really cost to remodel your house? What they don’t tell you on HGTV.\n•	Learn what drives costs and the importance of value engineering during design.\n•	Why are some contractors more expensive than others\, and what you are really paying for when you hire a contractor?\n•	Identify the differences between high quality and lower quality work that a professional would notice.  \n\nYou’ll see before and after photos of our projects\, and we’ll explore costs of various typical projects.   \nIt's fun\, it’s free\, of course we'll have delicious snacks\, BUT space is limited\, so advance registration is required. \n\nRegister online at http://www.leffconstruction.com/events/guide-successful-remodeling-project-creative-design-smart-decisions-your-budget\nor call us at 707-823-4899.  \n\nWe hope to see you there!
X-ALT-DESC;FMTTYPE=text/html:Join us Saturday\, May 11th at 10 am to learn how to start your remodeling or building project.  \n\n“How do I begin?”  “How do I think about a budget?” \n“Can I get a beautiful project done within my budget?”\n\nSome of the topics we will touch on:\n•	Understanding the different ways to approach the remodeling process as a whole\, conventional vs. design/build\n•	Why thinking in terms of $ per square foot is not a reliable way to gauge the cost of a project.\n•	What does it really cost to remodel your house? What they don’t tell you on HGTV.\n•	Learn what drives costs and the importance of value engineering during design.\n•	Why are some contractors more expensive than others\, and what you are really paying for when you hire a contractor?\n•	Identify the differences between high quality and lower quality work that a professional would notice.  \n\nYou’ll see before and after photos of our projects\, and we’ll explore costs of various typical projects.   \nIt's fun\, it’s free\, of course we'll have delicious snacks\, BUT space is limited\, so advance registration is required. \n\nRegister online at http://www.leffconstruction.com/events/guide-successful-remodeling-project-creative-design-smart-decisions-your-budget\nor call us at 707-823-4899.  \n\nWe hope to see you there!
LOCATION:Leff Design Center 2661 Gravenstein Hwy South\, Suite B (next to the Antique Society)
UID:e.3189.5040621
SEQUENCE:3
DTSTAMP:20260421T203648Z
URL:https://business.sebastopol.org/events/details/guide-to-a-successful-remodeling-project-05-11-2013-5040621
END:VEVENT

END:VCALENDAR
