BEGIN:VCALENDAR
VERSION:2.0
PRODID:-//ChamberMaster//Event Calendar 2.0//EN
METHOD:PUBLISH
X-PUBLISHED-TTL:P3D
REFRESH-INTERVAL:P3D
CALSCALE:GREGORIAN
BEGIN:VEVENT
DTSTART:20141208T010000Z
DTEND:20141208T060000Z
X-MICROSOFT-CDO-ALLDAYEVENT:FALSE
SUMMARY:Guitar Virtuoso Peppino D'Agostino comes to Occidental
DESCRIPTION:8 pm Concert\; 5 pm Guitar Workshop. Internationally renowned six string guitarist\, composer and arranger D’Agostino presents a dynamic concert performance covering folk\, Irish\, Italian\, Brazilian\, flamenco and jazz compositions that he calls “minestrone music”.Voted 'Best Acoustic Guitarist' and with eight award-winning albums and collaborations with some of the best musicians in the world\, he is touring to promote his newest CD Penumbra. Master Teacher D’Agostino is also offering a one hour Guitar Workshop at 5 pm- advanced registration required. $20 Workshop only/$25 Concert/ $35 Both Concert   707-874-9392.Wheelchair accessible.
X-ALT-DESC;FMTTYPE=text/html:8 pm Concert\; 5 pm Guitar Workshop. Internationally renowned six string guitarist\, composer and arranger D’Agostino presents a dynamic concert performance covering folk\, Irish\, Italian\, Brazilian\, flamenco and jazz compositions that he calls “minestrone music”.Voted 'Best Acoustic Guitarist' and with eight award-winning albums and collaborations with some of the best musicians in the world\, he is touring to promote his newest CD Penumbra. Master Teacher D’Agostino is also offering a one hour Guitar Workshop at 5 pm- advanced registration required. $20 Workshop only/$25 Concert/ $35 Both Concert &Workshop. Don’t miss this rare opportunity! Reserve early. www.occidentalcenterforthearts.org <http://www.occidentalcenterforthearts.org>\; 707-874-9392.Wheelchair accessible.
LOCATION:Occidental Center for the Arts 2850 Doris Murphy Court Occidental\, CA 95465
UID:e.3189.27344
SEQUENCE:3
DTSTAMP:20260420T101448Z
URL:https://business.sebastopol.org/events/details/guitar-virtuoso-peppino-d-agostino-comes-to-occidental-12-07-2014-27344
END:VEVENT

END:VCALENDAR
