BEGIN:VCALENDAR
VERSION:2.0
PRODID:-//ChamberMaster//Event Calendar 2.0//EN
METHOD:PUBLISH
X-PUBLISHED-TTL:P3D
REFRESH-INTERVAL:P3D
CALSCALE:GREGORIAN
BEGIN:VEVENT
DTSTART:20150711T220000Z
DTEND:20150711T233000Z
X-MICROSOFT-CDO-ALLDAYEVENT:FALSE
SUMMARY:Habitat It And They Will Come- Presentation with Tony McGuig
DESCRIPTION:Habitat It And They Will Come- Presentation with Tony McGuigan\nSaturday\, July 11\, 3:00-4:30pm\n(Following the Second Saturday of the Month Open House from 10am-3pm)\nHeron Hall\, Laguna Environmental Center\, 900 Sanford Road\, Santa Rosa\, CA 95401\n$10 at the door. No RSVP necessary.\n\nJoin us for this entertaining and informative talk about the why\, who\, and fun-how of creating animal habitats in residential gardens. Learn about some of the challenges wildlife face in suburbia and solutions to create wildlife-rich neighborhoods. Discover what wildlife might be present in our gardens and practical means to attract those critters.\n\nTony is owner of Spore Lore and the author of Habitat It And They Will Come. His education includes Biology at Long Island University and certificates in Permaculture and Sustainable Landscaping.  His passions include being a Learning Laguna Docent\, a Wildlife Habitat Instructor for Orchard View School’s high school Biology outdoor hands-on class at the Laguna Environmental Center\, a habitat landscaper\, and doing creative wildlife gardening at home.\n\nTony McGuigan is also hosting a hands-on workshop the following day\, "How to Create Residential Wildlife Habitat"\, see details and registration on our website: www.lagunafoundation.org/laguna_walks_classes.shtml.\n\nCome early and join us for the Open House from 10am-3pm. It's free!
X-ALT-DESC;FMTTYPE=text/html:Habitat It And They Will Come- Presentation with Tony McGuigan\nSaturday\, July 11\, 3:00-4:30pm\n(Following the Second Saturday of the Month Open House from 10am-3pm)\nHeron Hall\, Laguna Environmental Center\, 900 Sanford Road\, Santa Rosa\, CA 95401\n$10 at the door. No RSVP necessary.\n\nJoin us for this entertaining and informative talk about the why\, who\, and fun-how of creating animal habitats in residential gardens. Learn about some of the challenges wildlife face in suburbia and solutions to create wildlife-rich neighborhoods. Discover what wildlife might be present in our gardens and practical means to attract those critters.\n\nTony is owner of Spore Lore and the author of Habitat It And They Will Come. His education includes Biology at Long Island University and certificates in Permaculture and Sustainable Landscaping.  His passions include being a Learning Laguna Docent\, a Wildlife Habitat Instructor for Orchard View School’s high school Biology outdoor hands-on class at the Laguna Environmental Center\, a habitat landscaper\, and doing creative wildlife gardening at home.\n\nTony McGuigan is also hosting a hands-on workshop the following day\, "How to Create Residential Wildlife Habitat"\, see details and registration on our website: www.lagunafoundation.org/laguna_walks_classes.shtml.\n\nCome early and join us for the Open House from 10am-3pm. It's free!
LOCATION:Laguna Environmental Center 900 Sanford Road\, Santa Rosa\, Ca 95401
UID:e.3189.5042497
SEQUENCE:3
DTSTAMP:20260419T232701Z
URL:https://business.sebastopol.org/events/details/habitat-it-and-they-will-come-presentation-with-tony-mcguig-07-11-2015-5042497
END:VEVENT

END:VCALENDAR
