BEGIN:VCALENDAR
VERSION:2.0
PRODID:-//ChamberMaster//Event Calendar 2.0//EN
METHOD:PUBLISH
X-PUBLISHED-TTL:P3D
REFRESH-INTERVAL:P3D
CALSCALE:GREGORIAN
BEGIN:VEVENT
DTSTART:20151025T220000Z
DTEND:20151026T013000Z
X-MICROSOFT-CDO-ALLDAYEVENT:FALSE
SUMMARY:Harvest Party
DESCRIPTION:Come join us for a FREE Harvest Party at Sebastopol Christian Church!There will be family fun for everyone\, including:games for kidsjump house and slidecupcake walkphoto boothfood          andLOTS of candy!
X-ALT-DESC;FMTTYPE=text/html:<!--  Visual Designer HTML --><p>Come join us for a FREE Harvest Party at Sebastopol Christian Church!</p><p>There will be family fun for everyone\, including:</p><ul style="margin-left: .5em\;"><li style="list-style-type: disc\;">games for kids</li><li style="list-style-type: disc\;">jump house and slide</li><li style="list-style-type: disc\;">cupcake walk</li><li style="list-style-type: disc\;">photo booth</li><li style="list-style-type: disc\;">food </li></ul><p> &nbsp\;&nbsp\;&nbsp\;&nbsp\;&nbsp\;&nbsp\; &nbsp\;and</p><ul style="margin-left: .5em\;"><li style="list-style-type: disc\;">LOTS of candy!&nbsp\;</li></ul><p>&nbsp\;&nbsp\;&nbsp\;&nbsp\;&nbsp\;&nbsp\;&nbsp\;</p>
LOCATION:Sebastopol Christian Church7433 Bodega AveSebastopol
UID:e.3189.5042847
SEQUENCE:3
DTSTAMP:20260419T175922Z
URL:https://business.sebastopol.org/events/details/harvest-party-10-25-2015-5042847
END:VEVENT

END:VCALENDAR
