BEGIN:VCALENDAR
VERSION:2.0
PRODID:-//ChamberMaster//Event Calendar 2.0//EN
METHOD:PUBLISH
X-PUBLISHED-TTL:P3D
REFRESH-INTERVAL:P3D
CALSCALE:GREGORIAN
BEGIN:VEVENT
DTSTART:20150321T023000Z
DTEND:20150321T050000Z
X-MICROSOFT-CDO-ALLDAYEVENT:FALSE
SUMMARY:Haute Flash Quartet
DESCRIPTION:Put a spring in your step with the Haute Flash Quartet at this fun concert!  Four Sonoma County gals share their love of music first popularized in the 30s and 40s -the romantic French instrumental waltzes\, driving Gypsy and American Swing\, and all with lush three-part vocal harmonies.  Their music is fun\, danceable\, even infectious.  The group's unique sound is anchored by bass and guitar\, colored by mandolin and lyricized by the accordion.  They have been delighting Northern California audiences for the past five years.  The Haute Flash Quartet includes Rhonda Berney\, mandolin and vocals\; Jan Kahdeman\, guitar and vocals\; Karol Kopley\, accordion and vocals\, and Susan Walters\, upright bass.  \n$15 at the Door
X-ALT-DESC;FMTTYPE=text/html:Put a spring in your step with the Haute Flash Quartet at this fun concert!  Four Sonoma County gals share their love of music first popularized in the 30s and 40s -the romantic French instrumental waltzes\, driving Gypsy and American Swing\, and all with lush three-part vocal harmonies.  Their music is fun\, danceable\, even infectious.  The group's unique sound is anchored by bass and guitar\, colored by mandolin and lyricized by the accordion.  They have been delighting Northern California audiences for the past five years.  The Haute Flash Quartet includes Rhonda Berney\, mandolin and vocals\; Jan Kahdeman\, guitar and vocals\; Karol Kopley\, accordion and vocals\, and Susan Walters\, upright bass.  \n$15 at the Door
LOCATION:Serbastopol Centger for the Arts 282 South High Street Sebastopol\, CA 95472
UID:e.3189.32100
SEQUENCE:3
DTSTAMP:20260420T053227Z
URL:https://business.sebastopol.org/events/details/haute-flash-quartet-03-20-2015-32100
END:VEVENT

END:VCALENDAR
