BEGIN:VCALENDAR
VERSION:2.0
PRODID:-//ChamberMaster//Event Calendar 2.0//EN
METHOD:PUBLISH
X-PUBLISHED-TTL:P3D
REFRESH-INTERVAL:P3D
CALSCALE:GREGORIAN
BEGIN:VEVENT
DTSTART:20140829T010000Z
DTEND:20140829T030000Z
X-MICROSOFT-CDO-ALLDAYEVENT:FALSE
SUMMARY:Healing Foods Basics Class
DESCRIPTION:Make the connection between your health and the food and lifestyle factors that influence it through Ceres Community Project’s Healing Foods Basics class. This class offers an overview of Ceres’ nutrient-rich approach to healthy eating while providing a fun environment and loving community\, along with delicious food demonstrations.
X-ALT-DESC;FMTTYPE=text/html:Make the connection between your health and the food and lifestyle factors that influence it through Ceres Community Project’s Healing Foods Basics class. This class offers an overview of Ceres’ nutrient-rich approach to healthy eating while providing a fun environment and loving community\, along with delicious food demonstrations.
LOCATION:Ceres Community Project Meeting Room 7351 Bodega Avenue\, Sebastopol\, CA 95472
UID:e.3189.5041522
SEQUENCE:3
DTSTAMP:20260419T142747Z
URL:https://business.sebastopol.org/events/details/healing-foods-basics-class-08-28-2014-5041522
END:VEVENT

END:VCALENDAR
