BEGIN:VCALENDAR
VERSION:2.0
PRODID:-//ChamberMaster//Event Calendar 2.0//EN
METHOD:PUBLISH
X-PUBLISHED-TTL:P3D
REFRESH-INTERVAL:P3D
CALSCALE:GREGORIAN
BEGIN:VEVENT
DTSTART:20150314T013000Z
DTEND:20150314T023000Z
X-MICROSOFT-CDO-ALLDAYEVENT:FALSE
SUMMARY:Healing Puja Ceremony
DESCRIPTION:Hosted by the Tibetan Gallery & Studio in the Barlow\n\nEnvironmental Blessing & Black tea Offering for personal health & Well-being by the Monks of Drepung Loseling Monastery\n\nSuggested donation $20
X-ALT-DESC;FMTTYPE=text/html:Hosted by the Tibetan Gallery & Studio in the Barlow\n\nEnvironmental Blessing & Black tea Offering for personal health & Well-being by the Monks of Drepung Loseling Monastery\n\nSuggested donation $20
LOCATION:At Barlow's Fire Pit
UID:e.3189.5042199
SEQUENCE:3
DTSTAMP:20260420T053429Z
URL:https://business.sebastopol.org/events/details/healing-puja-ceremony-03-13-2015-5042199
END:VEVENT

END:VCALENDAR
