BEGIN:VCALENDAR
VERSION:2.0
PRODID:-//ChamberMaster//Event Calendar 2.0//EN
METHOD:PUBLISH
X-PUBLISHED-TTL:P3D
REFRESH-INTERVAL:P3D
CALSCALE:GREGORIAN
BEGIN:VEVENT
DTSTART:20150912T030000Z
DTEND:20150912T050000Z
X-MICROSOFT-CDO-ALLDAYEVENT:FALSE
SUMMARY:Hills to Hollers
DESCRIPTION:From the hills of Bluegrass to the hollers of the African-American musical experience\, nascent super group\, Hills to Hollers (Laurie Lewis\, Linda Tillery & Barbara Higbie) delves deep into the rich history of both white and black musical traditions from the American South. With a new CD and a recent performance at the Edmonton Folk Festival\, this powerhouse trio is enthralling audiences with soaring three-part harmonies\, unmatched musicianship and soulful performances of both classic and original southern music.
X-ALT-DESC;FMTTYPE=text/html:<!--  Visual Designer HTML -->&nbsp\;<p><span style="color: black">From the hills of Bluegrass to the hollers of the African-American musical experience\, nascent super group\, Hills to Hollers (Laurie Lewis\, Linda Tillery &amp\; Barbara Higbie) delves deep into the rich history of both white and black musical traditions from the American South. With a new CD and a recent performance at the Edmonton Folk Festival\, this powerhouse trio is enthralling audiences with soaring three-part harmonies\, unmatched musicianship and soulful performances of both classic and original southern music</span>.</p>
LOCATION:Sebastopol Community Cultural Center390 Morris Street Sebastopol\, CA. 95472
UID:e.3189.5042765
SEQUENCE:3
DTSTAMP:20260419T192319Z
URL:https://business.sebastopol.org/events/details/hills-to-hollers-09-11-2015-5042765
END:VEVENT

END:VCALENDAR
