BEGIN:VCALENDAR
VERSION:2.0
PRODID:-//ChamberMaster//Event Calendar 2.0//EN
METHOD:PUBLISH
X-PUBLISHED-TTL:P3D
REFRESH-INTERVAL:P3D
CALSCALE:GREGORIAN
BEGIN:VEVENT
DTSTART:20151027T180000Z
DTEND:20151027T210000Z
X-MICROSOFT-CDO-ALLDAYEVENT:FALSE
SUMMARY:HIRING EVENT WESTAMERICA BANK
DESCRIPTION:We are looking for leaders for various opportunities in:\nNapa\, Sonoma\, Marin\, Solano\, Sacramento and Contra Costa areas.\nSuccessful candidates must possess:\nCustomer Service and/or Cash Handling Experience\nComplete an application online at:\nwww.westamerica.com  Interviews will be held at the following locations: 7333 Redwood Boulevard\, Novato\, CA 94945 Contact: Maureen Manuel-Lipps   (707) 863-6878 or send email to: maureen.manuel-lipps westamerica.com  111 Santa Rosa Avenue\, Santa Rosa\, CA 95404 Contact: Brittney Champagne   (707) 863-6734 or send email: brittney.champagne westamerica.com  BENEFITS INCLUDE: MONTHLY INCENTIVES\, PROMOTIONAL OPPORTUNITIES\, PROFIT SHARING\, MEDICAL/DENTAL\, 401(K) PLAN\, PAID VACATION AND HOLIDAYS. COMPETITIVE SALARIES. EOE/EQUAL OPPORTUNITY LENDER • MEMBER FDIC • WESTAMERICA.COM
X-ALT-DESC;FMTTYPE=text/html:<!--  Visual Designer HTML -->We are looking for leaders for various opportunities in:\nNapa\, Sonoma\, Marin\, Solano\, Sacramento and Contra Costa areas.\nSuccessful candidates must possess:\nCustomer Service and/or Cash Handling Experience\nComplete an application online at:\nwww.westamerica.com <http: www westamerica com /> Interviews will be held at the following locations: 7333 Redwood Boulevard\, Novato\, CA 94945 Contact: Maureen Manuel-Lipps &#64\; (707) 863-6878 or send email to: maureen.manuel-lipps&#64\;westamerica.com&nbsp\;<mailto:maureen manuel-lipps westamerica com> 111 Santa Rosa Avenue\, Santa Rosa\, CA 95404 Contact: Brittney Champagne &#64\; (707) 863-6734 or send email: brittney.champagne&#64\;westamerica.com&nbsp\;<mailto:brittney champagne westamerica com> <span style="font-size:14px">BENEFITS INCLUDE: MONTHLY INCENTIVES\, PROMOTIONAL OPPORTUNITIES\, PROFIT SHARING\, MEDICAL/DENTAL\, 401(K) PLAN\, PAID VACATION AND HOLIDAYS. COMPETITIVE SALARIES. EOE/EQUAL OPPORTUNITY LENDER • MEMBER FDIC • WESTAMERICA.COM</span></mailto:brittney></mailto:maureen>&nbsp\;
LOCATION:Santa Rosa Branch 111 Santa Rosa Ave. Santa Rosa
UID:e.3189.35843
SEQUENCE:3
DTSTAMP:20260419T181315Z
URL:https://business.sebastopol.org/events/details/hiring-event-westamerica-bank-10-27-2015-35843
END:VEVENT

END:VCALENDAR
