BEGIN:VCALENDAR
VERSION:2.0
PRODID:-//ChamberMaster//Event Calendar 2.0//EN
METHOD:PUBLISH
X-PUBLISHED-TTL:P3D
REFRESH-INTERVAL:P3D
CALSCALE:GREGORIAN
BEGIN:VEVENT
DTSTART:20150404T030000Z
DTEND:20150404T050000Z
X-MICROSOFT-CDO-ALLDAYEVENT:FALSE
SUMMARY:Hiroya Tsukamoto in Concert
DESCRIPTION:Occidental Center for the Arts presents Japanese guitarist and composer Hiroya Tsukamoto in Concert. On tour from New York \, this talented young musician from Kyoto \, Japan is a skillful and innovative acoustic instrumental guitarist who also sings Japanese folk songs and his own unique compositions\, imparting a mood of peace and tranquility that will enchant you. $15 General. Fine Refreshments for sale. Cabaret seating.Wheelchair accessible.
X-ALT-DESC;FMTTYPE=text/html:Occidental Center for the Arts presents Japanese guitarist and composer Hiroya Tsukamoto in Concert. On tour from New York \, this talented young musician from Kyoto \, Japan is a skillful and innovative acoustic instrumental guitarist who also sings Japanese folk songs and his own unique compositions\, imparting a mood of peace and tranquility that will enchant you. $15 General. Fine Refreshments for sale. Cabaret seating.Wheelchair accessible.
LOCATION:Occidental Center for the Arts Bohemian Hwy.@ Graton Rd.\, Occidental
UID:e.3189.32150
SEQUENCE:3
DTSTAMP:20260420T040018Z
URL:https://business.sebastopol.org/events/details/hiroya-tsukamoto-in-concert-04-03-2015-32150
END:VEVENT

END:VCALENDAR
