BEGIN:VCALENDAR
VERSION:2.0
PRODID:-//ChamberMaster//Event Calendar 2.0//EN
METHOD:PUBLISH
X-PUBLISHED-TTL:P3D
REFRESH-INTERVAL:P3D
CALSCALE:GREGORIAN
BEGIN:VEVENT
DTSTART:20120910T000000Z
DTEND:20120910T020000Z
X-MICROSOFT-CDO-ALLDAYEVENT:FALSE
SUMMARY:Hohlax Trio from Athens
DESCRIPTION:Performing Greek music on their second West Coast tour. Jaime Smith\, Orestis Koletsos and Apostolis Kounis form a talented and accomplished trio. Prepare to dance! Reservations advised. $20.  Greek sweets and savories for sale\; wine and beer. OCA\, 3850 Doris Murphy Way\, Occidental.  Information:  occidentalcenterforthearts.org. or 707-874-9392.
X-ALT-DESC;FMTTYPE=text/html:Performing Greek music on their second West Coast tour. Jaime Smith\, Orestis Koletsos and Apostolis Kounis form a talented and accomplished trio. Prepare to dance! Reservations advised. $20.  Greek sweets and savories for sale\; wine and beer. OCA\, 3850 Doris Murphy Way\, Occidental.  Information:  occidentalcenterforthearts.org. or 707-874-9392.
LOCATION:OCA 3850 Doris Murphy Way Occidental
UID:e.3189.8768
SEQUENCE:3
DTSTAMP:20260422T084031Z
URL:https://business.sebastopol.org/events/details/hohlax-trio-from-athens-09-09-2012-8768
END:VEVENT

END:VCALENDAR
