BEGIN:VCALENDAR
VERSION:2.0
PRODID:-//ChamberMaster//Event Calendar 2.0//EN
METHOD:PUBLISH
X-PUBLISHED-TTL:P3D
REFRESH-INTERVAL:P3D
CALSCALE:GREGORIAN
BEGIN:VEVENT
DTSTART:20121214T020000Z
DTEND:20121214T040000Z
X-MICROSOFT-CDO-ALLDAYEVENT:FALSE
SUMMARY:Holiday Business After Five
DESCRIPTION:The Sebastopol Area Chamber of Commerce \n                Invites Businesses\, Employees & Guests to...\n       Business After Five  Hosted by Frizelle Enos Feeds\n\n\nThe registers will remain open from 6-7pm for those who want to do their Holiday Shopping with 10% off .  Applicable this evening only.
X-ALT-DESC;FMTTYPE=text/html:The Sebastopol Area Chamber of Commerce \n                Invites Businesses\, Employees & Guests to...\n       Business After Five  Hosted by Frizelle Enos Feeds\n\n\nThe registers will remain open from 6-7pm for those who want to do their Holiday Shopping with 10% off .  Applicable this evening only.
LOCATION:265 Petaluma Avenue Sebastopol
UID:e.3189.13403
SEQUENCE:3
DTSTAMP:20260422T040605Z
URL:https://business.sebastopol.org/events/details/holiday-business-after-five-12-13-2012-13403
END:VEVENT

END:VCALENDAR
