BEGIN:VCALENDAR
VERSION:2.0
PRODID:-//ChamberMaster//Event Calendar 2.0//EN
METHOD:PUBLISH
X-PUBLISHED-TTL:P3D
REFRESH-INTERVAL:P3D
CALSCALE:GREGORIAN
BEGIN:VEVENT
DTSTART:20141206T190000Z
DTEND:20141208T010000Z
X-MICROSOFT-CDO-ALLDAYEVENT:FALSE
SUMMARY:Holiday on Florence
DESCRIPTION:A showcase of fine local craft -- holiday shopping in a cozy setting -- everything is handmade. Weaving by Abby Bard\, Pottery by Chris Boyd\, Jewelry by Shelley Rae\, Paintings by Teresa Saluzzo\, Felted Folk Art by Elizabeth Fleming\, Art Candles by Barbara Tocher\, Natural skin care and botanicals by Nicole Crouch Diaz.
X-ALT-DESC;FMTTYPE=text/html:A showcase of fine local craft -- holiday shopping in a cozy setting -- everything is handmade. Weaving by Abby Bard\, Pottery by Chris Boyd\, Jewelry by Shelley Rae\, Paintings by Teresa Saluzzo\, Felted Folk Art by Elizabeth Fleming\, Art Candles by Barbara Tocher\, Natural skin care and botanicals by Nicole Crouch Diaz.
LOCATION:The Weaving Studio 343 Florence Avenue Sebastopol\, CA\, 95472
UID:e.3189.27625
SEQUENCE:3
DTSTAMP:20260420T101002Z
URL:https://business.sebastopol.org/events/details/holiday-on-florence-12-06-2014-27625
END:VEVENT

END:VCALENDAR
