BEGIN:VCALENDAR
VERSION:2.0
PRODID:-//ChamberMaster//Event Calendar 2.0//EN
METHOD:PUBLISH
X-PUBLISHED-TTL:P3D
REFRESH-INTERVAL:P3D
CALSCALE:GREGORIAN
BEGIN:VEVENT
DTSTART:20130320T200000Z
DTEND:20130320T200000Z
X-MICROSOFT-CDO-ALLDAYEVENT:FALSE
SUMMARY:Hospitality Job Fair
DESCRIPTION:Second Annual Hospitality Job Fair\n\nJoin us to find exciting job opportunities in the hospitality industry in Sonoma County!\n\nMarch 20\, 2013\n1:00 – 4:00 PM\n\nSonoma County Job Link\n2227 Capricorn Way\, Santa Rosa\n707-565-5550\n\nAttend a free workshop to prepare:			      \nHow to Get Noticed at a Job Fair		   \nMarch 18\, 2013	                      \n1:30 – 3:30 PM\nat Sonoma County Job Link	                      \nNo sign-up required!\n\nDress for success!\nBring copies of your resume!\nPractice your 30 second commercial!\n\nEmployers and Resources at the Job Fair:\nBurke’s Canoes		\nVintners Inn\nDouble Tree Inn by Hilton	\nFlipside Bar & Burgers\nGraton Rancheria Casino		\nKorbel\nPalms Grill\, Petaluma		\nPanda Express\nRendez Vous Bistro			\nSRJC Hospitality Career Certificate\nSonoma Mission Inn			\nSonoma County Job Link Training Funds\nSonoma Renaissance Resort	\nSonoma Sterling Limousines\n\nCheck our employer websites for available openings!
X-ALT-DESC;FMTTYPE=text/html:Second Annual Hospitality Job Fair\n\nJoin us to find exciting job opportunities in the hospitality industry in Sonoma County!\n\nMarch 20\, 2013\n1:00 – 4:00 PM\n\nSonoma County Job Link\n2227 Capricorn Way\, Santa Rosa\n707-565-5550\n\nAttend a free workshop to prepare:			      \nHow to Get Noticed at a Job Fair		   \nMarch 18\, 2013	                      \n1:30 – 3:30 PM\nat Sonoma County Job Link	                      \nNo sign-up required!\n\nDress for success!\nBring copies of your resume!\nPractice your 30 second commercial!\n\nEmployers and Resources at the Job Fair:\nBurke’s Canoes		\nVintners Inn\nDouble Tree Inn by Hilton	\nFlipside Bar & Burgers\nGraton Rancheria Casino		\nKorbel\nPalms Grill\, Petaluma		\nPanda Express\nRendez Vous Bistro			\nSRJC Hospitality Career Certificate\nSonoma Mission Inn			\nSonoma County Job Link Training Funds\nSonoma Renaissance Resort	\nSonoma Sterling Limousines\n\nCheck our employer websites for available openings!
LOCATION:Sonoma County Job Link 2227 Capricorn Way\, Santa Rosa
UID:e.3189.5040534
SEQUENCE:3
DTSTAMP:20260421T233004Z
URL:https://business.sebastopol.org/events/details/hospitality-job-fair-03-20-2013-5040534
END:VEVENT

END:VCALENDAR
