BEGIN:VCALENDAR
VERSION:2.0
PRODID:-//ChamberMaster//Event Calendar 2.0//EN
METHOD:PUBLISH
X-PUBLISHED-TTL:P3D
REFRESH-INTERVAL:P3D
CALSCALE:GREGORIAN
BEGIN:VEVENT
DTSTART:20150712T170000Z
DTEND:20150712T230000Z
X-MICROSOFT-CDO-ALLDAYEVENT:FALSE
SUMMARY:How to Create Residential Wildlife Habitat\, Hands-on Worksho
DESCRIPTION:Join us for this informative and fun-filled hands-on workshop with habitat landscaper\, Tony McGuigan. Learn how to “think like a plant\,” “think like a critter\,” and how to creatively foster wildlife habitat and thriving biodiversity in your own yard. Tony will begin the morning with a presentation inside Heron Hall (without PowerPoint!)\, then move outdoors for a tour of the habitat projects already installed in the landscape. Then we will dig in to create several new wildlife habitats at the Laguna Environmental Center! This workshop will include light to strenuous landscaping work in the sun\, although there will be tasks for every ability. Local materials will be used including native plants\, local rock and soil\, tree debris\, and driftwood. \nHow to Create Residential Wildlife Habitat\, Hands-on Workshop with Tony McGuigan\nSunday\, July 12\, 10:00am-4:00pm\nLaguna Environmental Center\, 900 Sanford Road\, Santa Rosa\, CA 95401\n$55 ($45 for Laguna Foundation members). Suitable for 14 years and up (teens must be accompanied by an adult). Pre-registration required: http://www.lagunafoundation.org/laguna_walks_classes.shtml\n\nWith a strong emphasis on creating natural-looking beauty and aesthetics in the landscape\, this workshop will be practical and inspirational.
X-ALT-DESC;FMTTYPE=text/html:Join us for this informative and fun-filled hands-on workshop with habitat landscaper\, Tony McGuigan. Learn how to “think like a plant\,” “think like a critter\,” and how to creatively foster wildlife habitat and thriving biodiversity in your own yard. Tony will begin the morning with a presentation inside Heron Hall (without PowerPoint!)\, then move outdoors for a tour of the habitat projects already installed in the landscape. Then we will dig in to create several new wildlife habitats at the Laguna Environmental Center! This workshop will include light to strenuous landscaping work in the sun\, although there will be tasks for every ability. Local materials will be used including native plants\, local rock and soil\, tree debris\, and driftwood. \nHow to Create Residential Wildlife Habitat\, Hands-on Workshop with Tony McGuigan\nSunday\, July 12\, 10:00am-4:00pm\nLaguna Environmental Center\, 900 Sanford Road\, Santa Rosa\, CA 95401\n$55 ($45 for Laguna Foundation members). Suitable for 14 years and up (teens must be accompanied by an adult). Pre-registration required: http://www.lagunafoundation.org/laguna_walks_classes.shtml\n\nWith a strong emphasis on creating natural-looking beauty and aesthetics in the landscape\, this workshop will be practical and inspirational.
LOCATION:Laguna Environmental Center 900 Sanford Road Santa Rosa\, CA 95401
UID:e.3189.5042500
SEQUENCE:3
DTSTAMP:20260419T232924Z
URL:https://business.sebastopol.org/events/details/how-to-create-residential-wildlife-habitat-hands-on-worksho-07-12-2015-5042500
END:VEVENT

END:VCALENDAR
