BEGIN:VCALENDAR
VERSION:2.0
PRODID:-//ChamberMaster//Event Calendar 2.0//EN
METHOD:PUBLISH
X-PUBLISHED-TTL:P3D
REFRESH-INTERVAL:P3D
CALSCALE:GREGORIAN
BEGIN:VEVENT
DTSTART:20151015T010000Z
DTEND:20151015T020000Z
X-MICROSOFT-CDO-ALLDAYEVENT:FALSE
SUMMARY:How to use essential oils Aromatically
DESCRIPTION:Want a lift at the end of your day? \nJoin us\, EO will change your energy and your moods.\n\nStudies show convincing evidence that simply inhaling the aroma of an essential oil is effective for calming nervous or anxious feelings in a variety of settings. \n\n\nLearn to create different blends: \n* Fight the afternoon slump blend \n* Kick back and relax blend \n* Feel good blend \n\nMake-&-Take a sachet for your bedroom!  \n10.00.  \nPresented by Adventure In Well Being
X-ALT-DESC;FMTTYPE=text/html:<!--  Visual Designer HTML -->Want a lift at the end of your day? <BR />Join us\, EO will change your energy and your moods.<BR /><BR />Studies show convincing evidence that simply inhaling the aroma of an essential oil is effective for calming nervous or anxious feelings in a variety of settings. <BR /><BR /><BR />Learn to create different blends: <BR />* Fight the afternoon slump blend <BR />* Kick back and relax blend <BR />* Feel good blend <BR /><BR />Make-&amp\;-Take a sachet for your bedroom!  <P>\n10.00.  <P>\nPresented by Adventure In Well Being <P></P></P></P>
LOCATION:Adventure In Well Being\, 3924 Princeton Drive\, Santa Rosa\, CA 95405
UID:e.3189.5042825
SEQUENCE:3
DTSTAMP:20260419T191926Z
URL:https://business.sebastopol.org/events/details/how-to-use-essential-oils-aromatically-10-14-2015-5042825
END:VEVENT

END:VCALENDAR
