BEGIN:VCALENDAR
VERSION:2.0
PRODID:-//ChamberMaster//Event Calendar 2.0//EN
METHOD:PUBLISH
X-PUBLISHED-TTL:P3D
REFRESH-INTERVAL:P3D
CALSCALE:GREGORIAN
BEGIN:VEVENT
DTSTART:20150509T133000Z
DTEND:20150509T183000Z
X-MICROSOFT-CDO-ALLDAYEVENT:FALSE
SUMMARY:Human Race
DESCRIPTION:2015 theme: Take a Walk on the Wild Side!\nThe Human Race is a nationwide community fundraising event for nonprofit organizations and is the largest collaborative fundraising event in Sonoma County as well as the largest Human Race in the nation! The Sonoma County Race features a 3K and 10K run and walk through Howarth and Spring Lake Parks\, rain or shine. Organizations and businesses recruit walkers/runners/donation-gatherers to raise funds. Funds can be raised for any nonprofit organization\, school or church. The run and walk is open to all. The Human Race is a proven fundraiser that has been successful for Sonoma County nonprofits for 33 years and continues to grow. The Volunteer Center provides marketing\, publicity\, materials\, and experienced assistance. Nonprofits and businesses provide the people power.
X-ALT-DESC;FMTTYPE=text/html:2015 theme: Take a Walk on the Wild Side!\nThe Human Race is a nationwide community fundraising event for nonprofit organizations and is the largest collaborative fundraising event in Sonoma County as well as the largest Human Race in the nation! The Sonoma County Race features a 3K and 10K run and walk through Howarth and Spring Lake Parks\, rain or shine. Organizations and businesses recruit walkers/runners/donation-gatherers to raise funds. Funds can be raised for any nonprofit organization\, school or church. The run and walk is open to all. The Human Race is a proven fundraiser that has been successful for Sonoma County nonprofits for 33 years and continues to grow. The Volunteer Center provides marketing\, publicity\, materials\, and experienced assistance. Nonprofits and businesses provide the people power.
LOCATION:Herbert Slater Middle School 3500 Sonoma Avenue Santa Rosa\, CA 95401
UID:e.3189.5042277
SEQUENCE:3
DTSTAMP:20260420T021412Z
URL:https://business.sebastopol.org/events/details/human-race-05-09-2015-5042277
END:VEVENT

END:VCALENDAR
