BEGIN:VCALENDAR
VERSION:2.0
PRODID:-//ChamberMaster//Event Calendar 2.0//EN
METHOD:PUBLISH
X-PUBLISHED-TTL:P3D
REFRESH-INTERVAL:P3D
CALSCALE:GREGORIAN
BEGIN:VEVENT
DTSTART:20120929T160000Z
DTEND:20120929T190000Z
X-MICROSOFT-CDO-ALLDAYEVENT:FALSE
SUMMARY:i WALK sebastopol
DESCRIPTION:Sebastopol may be a small city\, but this walk goes all the way around the city for a local\, long distance tour. 6 miles\, with an optional second loop (11 miles total).   This is a strenuous walk.  Wear comfortable shoes and bring water and a snack.  Leaders: Richard Nichols and Sarah Gurney\, Sebastopol City Council member
X-ALT-DESC;FMTTYPE=text/html:Sebastopol may be a small city\, but this walk goes all the way around the city for a local\, long distance tour. 6 miles\, with an optional second loop (11 miles total).   This is a strenuous walk.  Wear comfortable shoes and bring water and a snack.  Leaders: Richard Nichols and Sarah Gurney\, Sebastopol City Council member
LOCATION:Meet at Downtown Plaza at 9am and will return to the Plaza by noon. 6907 McKinley Street
UID:e.3189.8704
SEQUENCE:3
DTSTAMP:20260422T100218Z
URL:https://business.sebastopol.org/events/details/i-walk-sebastopol-09-29-2012-8704
END:VEVENT

END:VCALENDAR
