BEGIN:VCALENDAR
VERSION:2.0
PRODID:-//ChamberMaster//Event Calendar 2.0//EN
METHOD:PUBLISH
X-PUBLISHED-TTL:P3D
REFRESH-INTERVAL:P3D
CALSCALE:GREGORIAN
BEGIN:VEVENT
DTSTART:20151010T023000Z
DTEND:20151010T043000Z
X-MICROSOFT-CDO-ALLDAYEVENT:FALSE
SUMMARY:In Concert: Greenhouse Celtic Fusion
DESCRIPTION:Greenhouse is excited to announce a concert featuring our new band member\, flautist par excellence Priscilla Call Essert\, whose skill on the wooden flute and interplay with fiddler Jon Berger adds a whole new dimension to Greenhouse's sound.\n\nSebastopol Center for the Arts has a nicely remodeled\nperformance space\, the Brent Auditorium\, at their new home in the Veterans\nBuilding next to Ives Park. It's a great-sounding room\, and there will be\nrefreshments served at intermission. Showtime is 7:30pm and the ticket price is\na very reasonable $12. Please help spread the word\, and we hope to see you\nthere!
X-ALT-DESC;FMTTYPE=text/html:<!--  Visual Designer HTML --><p><strong>Greenhouse</strong> is excited to announce a concert featuring our new band member\, flautist par excellence&nbsp\;<strong>Priscilla Call Essert</strong>\, whose skill on the wooden flute and interplay with fiddler <strong>Jon Berger</strong> adds a whole new dimension to Greenhouse&#39\;s sound.</p>\n\n<p>Sebastopol Center for the Arts has a nicely remodeled\nperformance space\, the Brent Auditorium\, at their new home in the Veterans\nBuilding next to Ives Park. It&#39\;s a great-sounding room\, and there will be\nrefreshments served at intermission. Showtime is 7:30pm and the ticket price is\na very reasonable $12. Please help spread the word\, and we hope to see you\nthere!</p>
LOCATION:Sebastopol Center for the ArtsVeterans Building\, Ives ParkBrent Auditorium282 South High StreetSebastopol\, CA707 829 4797info sebarts.org
UID:e.3189.5042812
SEQUENCE:3
DTSTAMP:20260419T180415Z
URL:https://business.sebastopol.org/events/details/in-concert-greenhouse-celtic-fusion-10-09-2015-5042812
END:VEVENT

END:VCALENDAR
