BEGIN:VCALENDAR
VERSION:2.0
PRODID:-//ChamberMaster//Event Calendar 2.0//EN
METHOD:PUBLISH
X-PUBLISHED-TTL:P3D
REFRESH-INTERVAL:P3D
CALSCALE:GREGORIAN
BEGIN:VEVENT
DTSTART:20150704T003000Z
DTEND:20150704T053000Z
X-MICROSOFT-CDO-ALLDAYEVENT:FALSE
SUMMARY:INDEPENDENCE DAY FIREWORKS & MUSIC FESTIVAL
DESCRIPTION:2015 will be the 42nd year for this special family tradition. Held on the football field at Analy High School\, the gates open at 5:30 pm. Featuring live music\, dancing\, free games and relays\, food\, a fun raffle for prizes\, the community comes together\, with blankets and picnics\, to celebrate Independence Day.
X-ALT-DESC;FMTTYPE=text/html:2015 will be the 42nd year for this special family tradition. Held on the football field at Analy High School\, the gates open at 5:30 pm. Featuring live music\, dancing\, free games and relays\, food\, a fun raffle for prizes\, the community comes together\, with blankets and picnics\, to celebrate Independence Day.
LOCATION:Analy High School Football Field
UID:e.3189.5042525
SEQUENCE:3
DTSTAMP:20260419T232832Z
URL:https://business.sebastopol.org/events/details/independence-day-fireworks-music-festival-07-03-2015-5042525
END:VEVENT

END:VCALENDAR
