BEGIN:VCALENDAR
VERSION:2.0
PRODID:-//ChamberMaster//Event Calendar 2.0//EN
METHOD:PUBLISH
X-PUBLISHED-TTL:P3D
REFRESH-INTERVAL:P3D
CALSCALE:GREGORIAN
BEGIN:VEVENT
DTSTART:20150712T030000Z
DTEND:20150712T050000Z
X-MICROSOFT-CDO-ALLDAYEVENT:FALSE
SUMMARY:It’s A Beautiful Day Acoustic
DESCRIPTION:It’s A Beautiful Day Acoustic incorporates acoustic hot swing instrumentals and original compositions by mandolin master Phil Lawrence\, as well as classic rock songs by iconic violinist and vocalist David LaFlamme\, with harmony vocals by Linda LaFlamme of the timeless San Francisco 60’s band It’s A Beautiful Day (‘White Bird”). David LaFlamme fronts the band\, spinning stories from San Francisco’s golden age of rock and roll\; Phil Lawrence composes some of the music and plays a vintage 1916 Gibson mandolin\; renowned educator and guitarist Ned Boynton utilizes a unique open tuning that enriches the band’s harmonics\; jazz artist Ned Ripple of On the Air adds a hot rhythm guitar\; and multi-instrumentalist and teacher Eddie Guthman expertly plays acoustic bass. http://www.phillawrence.com/itsabeautifuldayacoustic.html
X-ALT-DESC;FMTTYPE=text/html:It’s A Beautiful Day Acoustic incorporates acoustic hot swing instrumentals and original compositions by mandolin master Phil Lawrence\, as well as classic rock songs by iconic violinist and vocalist David LaFlamme\, with harmony vocals by Linda LaFlamme of the timeless San Francisco 60’s band It’s A Beautiful Day (‘White Bird”). David LaFlamme fronts the band\, spinning stories from San Francisco’s golden age of rock and roll\; Phil Lawrence composes some of the music and plays a vintage 1916 Gibson mandolin\; renowned educator and guitarist Ned Boynton utilizes a unique open tuning that enriches the band’s harmonics\; jazz artist Ned Ripple of On the Air adds a hot rhythm guitar\; and multi-instrumentalist and teacher Eddie Guthman expertly plays acoustic bass. http://www.phillawrence.com/itsabeautifuldayacoustic.html
LOCATION:Occidental Center for the Arts
UID:e.3189.5042558
SEQUENCE:3
DTSTAMP:20260419T231055Z
URL:https://business.sebastopol.org/events/details/it-s-a-beautiful-day-acoustic-07-11-2015-5042558
END:VEVENT

END:VCALENDAR
