BEGIN:VCALENDAR
VERSION:2.0
PRODID:-//ChamberMaster//Event Calendar 2.0//EN
METHOD:PUBLISH
X-PUBLISHED-TTL:P3D
REFRESH-INTERVAL:P3D
CALSCALE:GREGORIAN
BEGIN:VEVENT
DTSTART:20120828T003000Z
DTEND:20120828T040000Z
X-MICROSOFT-CDO-ALLDAYEVENT:FALSE
SUMMARY:iWALK sebastopol
DESCRIPTION:We're heading south in Sebastopol for another progressive dinner walk.  Hope you can come along!\nIt's an easy two miles\, with stops along the way for appetizers\, entree\, and dessert.  Enjoy the outdoors and the company.  Disconnect from your cell phone and unwind for about three hours.  Visit these businesses and fun locations.  \n\nFor registration forms contact   rnichols@sonic.net
X-ALT-DESC;FMTTYPE=text/html:We're heading south in Sebastopol for another progressive dinner walk.  Hope you can come along!\nIt's an easy two miles\, with stops along the way for appetizers\, entree\, and dessert.  Enjoy the outdoors and the company.  Disconnect from your cell phone and unwind for about three hours.  Visit these businesses and fun locations.  \n\nFor registration forms contact   rnichols@sonic.net
LOCATION:Meet in the town plaza at 5:15pm
UID:e.3189.8774
SEQUENCE:3
DTSTAMP:20260422T100151Z
URL:https://business.sebastopol.org/events/details/iwalk-sebastopol-08-27-2012-8774
END:VEVENT

END:VCALENDAR
