BEGIN:VCALENDAR
VERSION:2.0
PRODID:-//ChamberMaster//Event Calendar 2.0//EN
METHOD:PUBLISH
X-PUBLISHED-TTL:P3D
REFRESH-INTERVAL:P3D
CALSCALE:GREGORIAN
BEGIN:VEVENT
DTSTART:20121013T160000Z
DTEND:20121013T190000Z
X-MICROSOFT-CDO-ALLDAYEVENT:FALSE
SUMMARY:iWALK sebastopol
DESCRIPTION:About 3 Miles\, easy pace. Visit local Sebastopol artists in their studios along a route with 4 to 6 stops in the downtown area.
X-ALT-DESC;FMTTYPE=text/html:About 3 Miles\, easy pace. Visit local Sebastopol artists in their studios along a route with 4 to 6 stops in the downtown area.
LOCATION:Meet at the town plaza at 9:00 am. Bring sunscreen\, a hat\, comfortable shoes\, and a snack. Meet at the Plaza at 9 AM\, leaving at 9:15 AM\, and returning by noon. Walkers may leave the group at any time after notifying the group leader. Rain cancels.
UID:e.3189.10482
SEQUENCE:3
DTSTAMP:20260422T071040Z
URL:https://business.sebastopol.org/events/details/iwalk-sebastopol-10-13-2012-10482
END:VEVENT

END:VCALENDAR
