BEGIN:VCALENDAR
VERSION:2.0
PRODID:-//ChamberMaster//Event Calendar 2.0//EN
METHOD:PUBLISH
X-PUBLISHED-TTL:P3D
REFRESH-INTERVAL:P3D
CALSCALE:GREGORIAN
BEGIN:VEVENT
DTSTART:20121027T160000Z
DTEND:20121027T190000Z
X-MICROSOFT-CDO-ALLDAYEVENT:FALSE
SUMMARY:iWALK sebastopol
DESCRIPTION:Peace activist\, Barbara Briggs-Letson has designed this new 6-mile loop route connecting all five of Sebastopol’s peace poles. Jim Corbett\, aka Mr. Music and Mr. Peacetown\, and Dan Gurney\, aka Mr. Ukelele\, will accompany one\, or all\, in singing a peace song at each location.
X-ALT-DESC;FMTTYPE=text/html:Peace activist\, Barbara Briggs-Letson has designed this new 6-mile loop route connecting all five of Sebastopol’s peace poles. Jim Corbett\, aka Mr. Music and Mr. Peacetown\, and Dan Gurney\, aka Mr. Ukelele\, will accompany one\, or all\, in singing a peace song at each location.
LOCATION:Meet in the Sebastopol Plaza at 9:00am for this peaceful walk. We return to the plaza by noon. Wear comfortable shoes and a hat\, and bring water\, sunscreen and a snack. Heavy rain cancels.
UID:e.3189.11285
SEQUENCE:3
DTSTAMP:20260422T070947Z
URL:https://business.sebastopol.org/events/details/iwalk-sebastopol-10-27-2012-11285
END:VEVENT

END:VCALENDAR
