BEGIN:VCALENDAR
VERSION:2.0
PRODID:-//ChamberMaster//Event Calendar 2.0//EN
METHOD:PUBLISH
X-PUBLISHED-TTL:P3D
REFRESH-INTERVAL:P3D
CALSCALE:GREGORIAN
BEGIN:VEVENT
DTSTART:20121124T170000Z
DTEND:20121124T213000Z
X-MICROSOFT-CDO-ALLDAYEVENT:FALSE
SUMMARY:iWALK sebastopol
DESCRIPTION:Walk & Bus to Santa Rosa   Walk to Santa Rosa? Why not? And work off that Thanksgiving feast to boot. We'll hike from the Sebastopol Plaza along the Joe Rodota Trail and through Roseland on our way to downtown Santa Rosa\, then take the Sonoma County Transit bus back to the Plaza after lunch. This is a moderate 8.5 mile walk  Leaders: Richard Nichols and Sarah Gurney\, Sebastopol City Council member
X-ALT-DESC;FMTTYPE=text/html:Walk & Bus to Santa Rosa   Walk to Santa Rosa? Why not? And work off that Thanksgiving feast to boot. We'll hike from the Sebastopol Plaza along the Joe Rodota Trail and through Roseland on our way to downtown Santa Rosa\, then take the Sonoma County Transit bus back to the Plaza after lunch. This is a moderate 8.5 mile walk  Leaders: Richard Nichols and Sarah Gurney\, Sebastopol City Council member
LOCATION:Sebastopol Plaza Weeks Way\, Sebastopol Meet at the town plaza at 9:00 am. Bring sunscreen\, a hat\, comfortable shoes\, and a snack. Walkers may leave the group at any time after notifying the group leader. Rain cancels.
UID:e.3189.10485
SEQUENCE:3
DTSTAMP:20260422T053848Z
URL:https://business.sebastopol.org/events/details/iwalk-sebastopol-11-24-2012-10485
END:VEVENT

END:VCALENDAR
