BEGIN:VCALENDAR
VERSION:2.0
PRODID:-//ChamberMaster//Event Calendar 2.0//EN
METHOD:PUBLISH
X-PUBLISHED-TTL:P3D
REFRESH-INTERVAL:P3D
CALSCALE:GREGORIAN
BEGIN:VEVENT
DTSTART:20130122T220000Z
DTEND:20130123T030000Z
X-MICROSOFT-CDO-ALLDAYEVENT:FALSE
SUMMARY:January is National Blood Donor Month!
DESCRIPTION:Celebrate the New Year and National Blood Donor Month by getting your New Year’s resolution off to a great start. Find the hero in you and schedule to donate blood 3-4 times this year!  Your donation will impact patients and their families.    The 7th Annual Bucket Brigade is underway.  Five departments have competed thus far with Wilmar Volunteer Fire Department/CAL Fire of Petaluma are currently leading with 73 donors.  The notion of a Bucket Brigade originates from the Great London Fire of 1666\, where lines of townspeople created “brigades\,” passing buckets of water from the town’s water source to the fires that threatened their community.   Free wellness screenings:  Cholesterol testing    ~ Blood pressure  ~   Body mass index and iron level (hemoglobin) Rewards: · Hero T-Shirt ~ Single Movie Ticket · $15 Music DVD ~  $15 Video Game · Two hand-packet pints Baskin Robbins ice cream and many more!                        Please bring a photo ID\, come well hydrated & have a good meal prior.
X-ALT-DESC;FMTTYPE=text/html:Celebrate the New Year and National Blood Donor Month by getting your New Year’s resolution off to a great start. Find the hero in you and schedule to donate blood 3-4 times this year!  Your donation will impact patients and their families.    The 7th Annual Bucket Brigade is underway.  Five departments have competed thus far with Wilmar Volunteer Fire Department/CAL Fire of Petaluma are currently leading with 73 donors.  The notion of a Bucket Brigade originates from the Great London Fire of 1666\, where lines of townspeople created “brigades\,” passing buckets of water from the town’s water source to the fires that threatened their community.   Free wellness screenings:  Cholesterol testing    ~ Blood pressure  ~   Body mass index and iron level (hemoglobin) Rewards: · Hero T-Shirt ~ Single Movie Ticket · $15 Music DVD ~  $15 Video Game · Two hand-packet pints Baskin Robbins ice cream and many more!                        Please bring a photo ID\, come well hydrated & have a good meal prior.
LOCATION:Sebastopol Volunteer Fire Department 7425 Bodega Ave\, Sebastopol.
UID:e.3189.14658
SEQUENCE:3
DTSTAMP:20260422T023718Z
URL:https://business.sebastopol.org/events/details/january-is-national-blood-donor-month-01-22-2013-14658
END:VEVENT

END:VCALENDAR
