BEGIN:VCALENDAR
VERSION:2.0
PRODID:-//ChamberMaster//Event Calendar 2.0//EN
METHOD:PUBLISH
X-PUBLISHED-TTL:P3D
REFRESH-INTERVAL:P3D
CALSCALE:GREGORIAN
BEGIN:VEVENT
DTSTART:20121004T200000Z
DTEND:20121205T033000Z
X-MICROSOFT-CDO-ALLDAYEVENT:FALSE
SUMMARY:Jewish Film Festival
DESCRIPTION:JCC Presents\; Jewish Film Festival 2012. \n\nThe Jewish Community Center\, Sonoma County announces that the Jewish Film Festival 2012 has moved to the new Rialto Cinemas\, Sebastopol. Eight carefully selected films representing USA\, South Africa\, France\, Germany\, England\, Czech Republic\, Cambodia and Denmark will be shown this year. “We strive to create a glimpse of Jewish life from around the world while providing high quality\, entertaining\, independent films.”\n\nThe 2012 Jewish Film Festival sponsored by the Jewish Community Center of Sonoma County runs from October 4th through December 4th at the Rialto Cinemas in Sebastopol.  \n\nTickets are on sale now. Go to www.jccsoco.org \, or call 707 526-5538 for tickets\, information and trailers. Please\, join us for our 17th season\; the films are tremendous this year!
X-ALT-DESC;FMTTYPE=text/html:JCC Presents\; Jewish Film Festival 2012. \n\nThe Jewish Community Center\, Sonoma County announces that the Jewish Film Festival 2012 has moved to the new Rialto Cinemas\, Sebastopol. Eight carefully selected films representing USA\, South Africa\, France\, Germany\, England\, Czech Republic\, Cambodia and Denmark will be shown this year. “We strive to create a glimpse of Jewish life from around the world while providing high quality\, entertaining\, independent films.”\n\nThe 2012 Jewish Film Festival sponsored by the Jewish Community Center of Sonoma County runs from October 4th through December 4th at the Rialto Cinemas in Sebastopol.  \n\nTickets are on sale now. Go to www.jccsoco.org \, or call 707 526-5538 for tickets\, information and trailers. Please\, join us for our 17th season\; the films are tremendous this year!
LOCATION:Rialto Cinemas 6868 Mckinley St. Sebastopol
UID:e.3189.5040142
SEQUENCE:3
DTSTAMP:20260422T040832Z
URL:https://business.sebastopol.org/events/details/jewish-film-festival-10-04-2012-5040142
END:VEVENT

END:VCALENDAR
