BEGIN:VCALENDAR
VERSION:2.0
PRODID:-//ChamberMaster//Event Calendar 2.0//EN
METHOD:PUBLISH
X-PUBLISHED-TTL:P3D
REFRESH-INTERVAL:P3D
CALSCALE:GREGORIAN
BEGIN:VEVENT
DTSTART:20121021T230000Z
DTEND:20121022T040000Z
X-MICROSOFT-CDO-ALLDAYEVENT:FALSE
SUMMARY:Join Us ~ The Heart of Health Care ~
DESCRIPTION:A Community Benefit for Palm Drive Hospital   Support Emergency Room Renovation  Meet the New Leadership Team  Contribute to Our Lasting Success RSVP Early ~ Seating is Limited ~ $150 per person Purchase tickets call 707.823.8312 or email event@pdhcf.org
X-ALT-DESC;FMTTYPE=text/html:A Community Benefit for Palm Drive Hospital   Support Emergency Room Renovation  Meet the New Leadership Team  Contribute to Our Lasting Success RSVP Early ~ Seating is Limited ~ $150 per person Purchase tickets call 707.823.8312 or email event@pdhcf.org <mailto:aharchut@pdhcf.org>
LOCATION:French Garden Restaurant & Bistrro
UID:e.3189.10479
SEQUENCE:3
DTSTAMP:20260422T071542Z
URL:https://business.sebastopol.org/events/details/join-us-the-heart-of-health-care-10-21-2012-10479
END:VEVENT

END:VCALENDAR
