BEGIN:VCALENDAR
VERSION:2.0
PRODID:-//ChamberMaster//Event Calendar 2.0//EN
METHOD:PUBLISH
X-PUBLISHED-TTL:P3D
REFRESH-INTERVAL:P3D
CALSCALE:GREGORIAN
BEGIN:VEVENT
DTSTART:20150222T230000Z
DTEND:20150223T010000Z
X-MICROSOFT-CDO-ALLDAYEVENT:FALSE
SUMMARY:Joni Davis
DESCRIPTION:Joni Davis will be playing in the tented beer garden at Hopmonk / Sebastopol (230 Petaluma Ave) on Sunday\, February 22 from 3-5pm. Donations happily received!\n\nJoni writes songs about the challenges of being uncomfortably human\, and uses piano as a backdrop to her lyrics. Enjoy a rare and intimate performance from this soulful Sonoma County native - Joni's first Sonoma County performance in three years. She will be generously sharing her off the charts talent and her songs\, new and old.  \n\n"...her deep\, powerful voice as intense as her lyrics resonates over strong\, simple piano. Think Carole King shaken with Nina Simone and pour by PJ Harvey." - Sacha Whitmarch\n\n"Like Jolie Holland\, Joni Davis is able to distill folk music\, carnival music\, jazz and balladry into something new and strange." - Gabe Meline\n\n"She's an old blues sage trapped in a young woman's body\, and to hear her sing is a delight." - John Beck
X-ALT-DESC;FMTTYPE=text/html:Joni Davis will be playing in the tented beer garden at Hopmonk / Sebastopol (230 Petaluma Ave) on Sunday\, February 22 from 3-5pm. Donations happily received!\n\nJoni writes songs about the challenges of being uncomfortably human\, and uses piano as a backdrop to her lyrics. Enjoy a rare and intimate performance from this soulful Sonoma County native - Joni's first Sonoma County performance in three years. She will be generously sharing her off the charts talent and her songs\, new and old.  \n\n"...her deep\, powerful voice as intense as her lyrics resonates over strong\, simple piano. Think Carole King shaken with Nina Simone and pour by PJ Harvey." - Sacha Whitmarch\n\n"Like Jolie Holland\, Joni Davis is able to distill folk music\, carnival music\, jazz and balladry into something new and strange." - Gabe Meline\n\n"She's an old blues sage trapped in a young woman's body\, and to hear her sing is a delight." - John Beck
LOCATION:Hopmonk Tavern Sebastopol
UID:e.3189.5042153
SEQUENCE:3
DTSTAMP:20260420T065638Z
URL:https://business.sebastopol.org/events/details/joni-davis-02-22-2015-5042153
END:VEVENT

END:VCALENDAR
