BEGIN:VCALENDAR
VERSION:2.0
PRODID:-//ChamberMaster//Event Calendar 2.0//EN
METHOD:PUBLISH
X-PUBLISHED-TTL:P3D
REFRESH-INTERVAL:P3D
CALSCALE:GREGORIAN
BEGIN:VEVENT
DTSTART:20121216T040000Z
DTEND:20121216T060000Z
X-MICROSOFT-CDO-ALLDAYEVENT:FALSE
SUMMARY:Joyeux Noel with the Aulos Ensemble
DESCRIPTION:Formed in 1973 by five graduates of the Juilliard School\, the Aulos Ensemble was at the forefront of a movement that has captured the imagination of the American listening public–to give authentic Baroque Era performances on original period instruments. Aulos’ reputation for exhilarating performances informed with scholarly insight along with an uncompromising standard of excellence led the NY Times to state: Authentic Baroque performance at its best!  The Aulos will perform their beloved NPR program\, Joyeux Noel: An Evening of French Baroque Music for the Season – of which The New York Times said if it has to be just one Christmas concert\, this is it!” Aulos has continued to give master classes and lecture-demonstrations in 17th- and 18th-century performance practice at colleges and universities throughout the country. With its members serving on faculties of various schools of music and institutes specializing in historically informed performance\, the Ensemble is responsible for training a new generation of American early-music performers.
X-ALT-DESC;FMTTYPE=text/html:Formed in 1973 by five graduates of the Juilliard School\, the Aulos Ensemble was at the forefront of a movement that has captured the imagination of the American listening public–to give authentic Baroque Era performances on original period instruments. Aulos’ reputation for exhilarating performances informed with scholarly insight along with an uncompromising standard of excellence led the NY Times to state: Authentic Baroque performance at its best!  The Aulos will perform their beloved NPR program\, Joyeux Noel: An Evening of French Baroque Music for the Season – of which The New York Times said if it has to be just one Christmas concert\, this is it!” Aulos has continued to give master classes and lecture-demonstrations in 17th- and 18th-century performance practice at colleges and universities throughout the country. With its members serving on faculties of various schools of music and institutes specializing in historically informed performance\, the Ensemble is responsible for training a new generation of American early-music performers.
LOCATION:OCA is located at 3850 Doris Murphy Ct. in Occidental\, CA 95465
UID:e.3189.13506
SEQUENCE:3
DTSTAMP:20260422T040533Z
URL:https://business.sebastopol.org/events/details/joyeux-noel-with-the-aulos-ensemble-12-15-2012-13506
END:VEVENT

END:VCALENDAR
