BEGIN:VCALENDAR
VERSION:2.0
PRODID:-//ChamberMaster//Event Calendar 2.0//EN
METHOD:PUBLISH
X-PUBLISHED-TTL:P3D
REFRESH-INTERVAL:P3D
CALSCALE:GREGORIAN
BEGIN:VEVENT
DTSTART:20141213T190000Z
DTEND:20141213T220000Z
X-MICROSOFT-CDO-ALLDAYEVENT:FALSE
SUMMARY:K-Tech Automotive Chili Cook off
DESCRIPTION:Taste some chili\, donate a toy to Toys for Tots\nDecember 13\, 2014 (Sebastopol\, CA )\n\nK-Tech Automotive is sponsoring a Chili Cook Off to support the Toys for Tots program. \n\nThe Cook Off will be held Saturday\, December 13\, 2014 from 11 a.m. to 2 p.m. at the K-Tech Automotive shop in Sebastopol\, 198 S. High Street. This is a free community event. Adults and children alike are invited to come by\, taste some home made chili\, and donate a new\, unwrapped toy for the Toys for Tots Foundation. \n\nMonetary donations are also welcome. K-Tech has turned to local businesses to volunteer their time as chili cooking teams\, and to community leaders to sponsor tables and serve as judges. “There are still opportunities for both contestants and sponsors\,” says event coordinator\, Diana Andree. “This promises to be a fun time for everyone\, and for a wonderful cause.”\n\nThe Toys for Tots is a program was founded in 1947 and is run by the United States Marine Corps Reserve. The mission of the program is to collect new\, unwrapped toys and distribute those toys as Christmas gifts to needy children in the community\, and to offer a message of hope to less fortunate youngsters that will assist them in becoming responsible\, productive\, patriotic citizens.\n\nHappy Holidays! \n\nKate Jonasse\nand the K-Tech Team
X-ALT-DESC;FMTTYPE=text/html:Taste some chili\, donate a toy to Toys for Tots\nDecember 13\, 2014 (Sebastopol\, CA )\n\nK-Tech Automotive is sponsoring a Chili Cook Off to support the Toys for Tots program. \n\nThe Cook Off will be held Saturday\, December 13\, 2014 from 11 a.m. to 2 p.m. at the K-Tech Automotive shop in Sebastopol\, 198 S. High Street. This is a free community event. Adults and children alike are invited to come by\, taste some home made chili\, and donate a new\, unwrapped toy for the Toys for Tots Foundation. \n\nMonetary donations are also welcome. K-Tech has turned to local businesses to volunteer their time as chili cooking teams\, and to community leaders to sponsor tables and serve as judges. “There are still opportunities for both contestants and sponsors\,” says event coordinator\, Diana Andree. “This promises to be a fun time for everyone\, and for a wonderful cause.”\n\nThe Toys for Tots is a program was founded in 1947 and is run by the United States Marine Corps Reserve. The mission of the program is to collect new\, unwrapped toys and distribute those toys as Christmas gifts to needy children in the community\, and to offer a message of hope to less fortunate youngsters that will assist them in becoming responsible\, productive\, patriotic citizens.\n\nHappy Holidays! \n\nKate Jonasse\nand the K-Tech Team
LOCATION:K-Tech Automotive 198 South High St\, Sebastopol\, California 95472
UID:e.3189.5041977
SEQUENCE:3
DTSTAMP:20260420T114732Z
URL:https://business.sebastopol.org/events/details/k-tech-automotive-chili-cook-off-12-13-2014-5041977
END:VEVENT

END:VCALENDAR
