BEGIN:VCALENDAR
VERSION:2.0
PRODID:-//ChamberMaster//Event Calendar 2.0//EN
METHOD:PUBLISH
X-PUBLISHED-TTL:P3D
REFRESH-INTERVAL:P3D
CALSCALE:GREGORIAN
BEGIN:VEVENT
DTSTART:20150615T020000Z
DTEND:20150615T040000Z
X-MICROSOFT-CDO-ALLDAYEVENT:FALSE
SUMMARY:Kinsey Sicks
DESCRIPTION:Did you know that 2 members of the Kinsey Sicks are lawyers and one member used to be an advisor to President Clinton? Be amazed (or appalled) by The Kinsey Sicks’ latest and greatest dragtastic a cappella musical! This collection of 21 new songs is an equal mix of appalling original songs and unforgiveable parodies of such favorites as Chitty Chitty Bang Bang\; A Whole New World\; What Does the Fox Say\; not one but TWO Carol King numbers\; two Grammy-award winning hits: Happy and the Disney sensation Let it Go\; and of course\, The Gershwin classic I’ve Got Plenty o’ Nuttin’. In other words\, this show has something to mortify everyone. “The Kinsey Sicks promise to help an adoring audience find its inner drag queen. And they succeed.... The Sicks are genuinely talented men and theirs is a genuinely funny show which cheerfully crosses the line of political correctness. It is “Rent” on nitrous oxide.” ~ Washington Post
X-ALT-DESC;FMTTYPE=text/html:Did you know that 2 members of the Kinsey Sicks are lawyers and one member used to be an advisor to President Clinton? Be amazed (or appalled) by The Kinsey Sicks’ latest and greatest dragtastic a cappella musical! This collection of 21 new songs is an equal mix of appalling original songs and unforgiveable parodies of such favorites as Chitty Chitty Bang Bang\; A Whole New World\; What Does the Fox Say\; not one but TWO Carol King numbers\; two Grammy-award winning hits: Happy and the Disney sensation Let it Go\; and of course\, The Gershwin classic I’ve Got Plenty o’ Nuttin’. In other words\, this show has something to mortify everyone. “The Kinsey Sicks promise to help an adoring audience find its inner drag queen. And they succeed.... The Sicks are genuinely talented men and theirs is a genuinely funny show which cheerfully crosses the line of political correctness. It is “Rent” on nitrous oxide.” ~ Washington Post
LOCATION:Sebastopol Community Cultural Center 390 Morris Street Sebastopol\, CA. 95472
UID:e.3189.5042445
SEQUENCE:3
DTSTAMP:20260420T021413Z
URL:https://business.sebastopol.org/events/details/kinsey-sicks-06-14-2015-5042445
END:VEVENT

END:VCALENDAR
