BEGIN:VCALENDAR
VERSION:2.0
PRODID:-//ChamberMaster//Event Calendar 2.0//EN
METHOD:PUBLISH
X-PUBLISHED-TTL:P3D
REFRESH-INTERVAL:P3D
CALSCALE:GREGORIAN
BEGIN:VEVENT
DTSTART:20130331T050000Z
DTEND:20130331T050000Z
X-MICROSOFT-CDO-ALLDAYEVENT:FALSE
SUMMARY:KIWANIS ANNUAL EASTER EGG HUNT
DESCRIPTION:The Kiwanis Annual Easter Egg Hunt is Sat. March 30th Kids of all ages are invited to this free event!   Time: 10 am sharp  Bring your baskets and a camera to take photos with the Easter Bunny. Don't be late!!  It's over in a blink.
X-ALT-DESC;FMTTYPE=text/html:The Kiwanis Annual Easter Egg Hunt is Sat. March 30th Kids of all ages are invited to this free event!   Time: 10 am sharp  Bring your baskets and a camera to take photos with the Easter Bunny. Don't be late!!  It's over in a blink.
LOCATION:Ives Park on Willow St in Sebastopol
UID:e.3189.15385
SEQUENCE:3
DTSTAMP:20260421T232710Z
URL:https://business.sebastopol.org/events/details/kiwanis-annual-easter-egg-hunt-03-30-2013-15385
END:VEVENT

END:VCALENDAR
