BEGIN:VCALENDAR
VERSION:2.0
PRODID:-//ChamberMaster//Event Calendar 2.0//EN
METHOD:PUBLISH
X-PUBLISHED-TTL:P3D
REFRESH-INTERVAL:P3D
CALSCALE:GREGORIAN
BEGIN:VEVENT
DTSTART:20150521T230000Z
DTEND:20150522T000000Z
X-MICROSOFT-CDO-ALLDAYEVENT:FALSE
SUMMARY:Knit Wits
DESCRIPTION:Know how to knit?  Wanna learn?  Join us for knit wits\, a teen knitting and crochet program at the library to learn tips and trips\, and to make projects to share with our community.
X-ALT-DESC;FMTTYPE=text/html:Know how to knit?  Wanna learn?  Join us for knit wits\, a teen knitting and crochet program at the library to learn tips and trips\, and to make projects to share with our community.
LOCATION:Sebastopol Regional Library 7140 Bodega Avenue\, Sebastopol
UID:e.3189.5042354
SEQUENCE:3
DTSTAMP:20260420T021350Z
URL:https://business.sebastopol.org/events/details/knit-wits-05-21-2015-5042354
END:VEVENT

END:VCALENDAR
