BEGIN:VCALENDAR
VERSION:2.0
PRODID:-//ChamberMaster//Event Calendar 2.0//EN
METHOD:PUBLISH
X-PUBLISHED-TTL:P3D
REFRESH-INTERVAL:P3D
CALSCALE:GREGORIAN
BEGIN:VEVENT
DTSTART:20150313T013000Z
DTEND:20150313T030000Z
X-MICROSOFT-CDO-ALLDAYEVENT:FALSE
SUMMARY:Lecture Series by H.G. Gala Rinpoche: Death & Dying
DESCRIPTION:As a part of 'The Mystical Art of Tibet' tour of the monks of Drepung Loseling Monastery\, hosted bt the Tibetan gallery & Studio in the Barlow\,  H.G. Gala Rinpoche will be giving lectures.\n\nOn this day\, Rinpoche will talk about death and dying: the Tibetan Tradition. The subject of death and dying is something thought of in the West as being negative and morbid.  However\, Buddhism teaches that an understanding of death process is important life knowledge.\n\nSuggested donation $15
X-ALT-DESC;FMTTYPE=text/html:As a part of 'The Mystical Art of Tibet' tour of the monks of Drepung Loseling Monastery\, hosted bt the Tibetan gallery & Studio in the Barlow\,  H.G. Gala Rinpoche will be giving lectures.\n\nOn this day\, Rinpoche will talk about death and dying: the Tibetan Tradition. The subject of death and dying is something thought of in the West as being negative and morbid.  However\, Buddhism teaches that an understanding of death process is important life knowledge.\n\nSuggested donation $15
LOCATION:Tibetan Gallery & Studio 6770 McKinley Street #130 (in the Barlow)\, Sebastopol\, CA 95472
UID:e.3189.5042190
SEQUENCE:3
DTSTAMP:20260420T053823Z
URL:https://business.sebastopol.org/events/details/lecture-series-by-h-g-gala-rinpoche-death-dying-03-12-2015-5042190
END:VEVENT

END:VCALENDAR
