BEGIN:VCALENDAR
VERSION:2.0
PRODID:-//ChamberMaster//Event Calendar 2.0//EN
METHOD:PUBLISH
X-PUBLISHED-TTL:P3D
REFRESH-INTERVAL:P3D
CALSCALE:GREGORIAN
BEGIN:VEVENT
DTSTART:20150310T013000Z
DTEND:20150310T013000Z
X-MICROSOFT-CDO-ALLDAYEVENT:FALSE
SUMMARY:Lecture Series by H.G. Gala Rinpoche : Shamatha Meditation
DESCRIPTION:As a part of 'The Mystical Art of Tibet' tour of the monks of Drepung Loseling Monastery\, hosted bt the Tibetan gallery & Studio in the Barlow\,  H.G. Gala Rinpoche will be giving lectures.\nOn this day\, Rinpoche will explain how to engage in shamatha\, the meditation for calming the mind and attaining clarity\, focus and attention.\nSuggested donation $15
X-ALT-DESC;FMTTYPE=text/html:As a part of 'The Mystical Art of Tibet' tour of the monks of Drepung Loseling Monastery\, hosted bt the Tibetan gallery & Studio in the Barlow\,  H.G. Gala Rinpoche will be giving lectures.\nOn this day\, Rinpoche will explain how to engage in shamatha\, the meditation for calming the mind and attaining clarity\, focus and attention.\nSuggested donation $15
LOCATION:Tibetan Gallery & Studio 6770 McKinley Street #130 (in the Barlow)\, Sebastopol\, CA 95472
UID:e.3189.5042184
SEQUENCE:3
DTSTAMP:20260420T053821Z
URL:https://business.sebastopol.org/events/details/lecture-series-by-h-g-gala-rinpoche-shamatha-meditation-03-09-2015-5042184
END:VEVENT

END:VCALENDAR
