BEGIN:VCALENDAR
VERSION:2.0
PRODID:-//ChamberMaster//Event Calendar 2.0//EN
METHOD:PUBLISH
X-PUBLISHED-TTL:P3D
REFRESH-INTERVAL:P3D
CALSCALE:GREGORIAN
BEGIN:VEVENT
DTSTART:20150311T013000Z
DTEND:20150311T030000Z
X-MICROSOFT-CDO-ALLDAYEVENT:FALSE
SUMMARY:Lecture Series by H.G. Gala Rinpoche: Tibet today: A History
DESCRIPTION:As a part of 'The Mystical Art of Tibet' tour of the monks of Drepung Loseling Monastery\, hosted bt the Tibetan Gallery & Studio in the Barlow\,  H.G. Gala Rinpoche will be giving lectures.\n\nOn this day\, the lecture focuses on the contemporary Tibet situation: the invasion by Communist China in the 1950's\, the efforts of the refugees in exile to preserve their civilization\, and the situation in occupied Tibet. The lecture will conclude with a prayer for peace.\n\nSuggested donation $15
X-ALT-DESC;FMTTYPE=text/html:As a part of 'The Mystical Art of Tibet' tour of the monks of Drepung Loseling Monastery\, hosted bt the Tibetan Gallery & Studio in the Barlow\,  H.G. Gala Rinpoche will be giving lectures.\n\nOn this day\, the lecture focuses on the contemporary Tibet situation: the invasion by Communist China in the 1950's\, the efforts of the refugees in exile to preserve their civilization\, and the situation in occupied Tibet. The lecture will conclude with a prayer for peace.\n\nSuggested donation $15
LOCATION:Tibetan Gallery & Studio 6770 McKinley Street #130 (in the Barlow)\, Sebastopol\, CA 95472
UID:e.3189.5042187
SEQUENCE:3
DTSTAMP:20260420T053822Z
URL:https://business.sebastopol.org/events/details/lecture-series-by-h-g-gala-rinpoche-tibet-today-a-history-03-10-2015-5042187
END:VEVENT

END:VCALENDAR
