BEGIN:VCALENDAR
VERSION:2.0
PRODID:-//ChamberMaster//Event Calendar 2.0//EN
METHOD:PUBLISH
X-PUBLISHED-TTL:P3D
REFRESH-INTERVAL:P3D
CALSCALE:GREGORIAN
BEGIN:VEVENT
DTSTART:20150315T220000Z
DTEND:20150315T230000Z
X-MICROSOFT-CDO-ALLDAYEVENT:FALSE
SUMMARY:Lecture Series: Symbolism of the Sand Mandala
DESCRIPTION:The mandala is a sacred cosmogram used as an object of contemplation. By creating a sand mandala we bring the creative energy of the sacred dimension into our lives and attune ourselves to this natural perfection.\n\nSuggested donation $15
X-ALT-DESC;FMTTYPE=text/html:The mandala is a sacred cosmogram used as an object of contemplation. By creating a sand mandala we bring the creative energy of the sacred dimension into our lives and attune ourselves to this natural perfection.\n\nSuggested donation $15
LOCATION:Tibetan Gallery & Studio 6770 McKinley Street #130 (in the Barlow)\, Sebastopol\, CA 95472
UID:e.3189.5042193
SEQUENCE:3
DTSTAMP:20260420T053848Z
URL:https://business.sebastopol.org/events/details/lecture-series-symbolism-of-the-sand-mandala-03-15-2015-5042193
END:VEVENT

END:VCALENDAR
