BEGIN:VCALENDAR
VERSION:2.0
PRODID:-//ChamberMaster//Event Calendar 2.0//EN
METHOD:PUBLISH
X-PUBLISHED-TTL:P3D
REFRESH-INTERVAL:P3D
CALSCALE:GREGORIAN
BEGIN:VEVENT
DTSTART:20150428T230000Z
DTEND:20150429T000000Z
X-MICROSOFT-CDO-ALLDAYEVENT:FALSE
SUMMARY:Lego Club
DESCRIPTION:Heed the call to create.  Meet friends\, make new friends\, and build a challenging structure.  For children ages 6 - 12 and their caretakers.
X-ALT-DESC;FMTTYPE=text/html:Heed the call to create.  Meet friends\, make new friends\, and build a challenging structure.  For children ages 6 - 12 and their caretakers.
LOCATION:Sebastopol Regional Library 7140 Bodega Avenue\, Sebastopol
UID:e.3189.5042316
SEQUENCE:3
DTSTAMP:20260420T035931Z
URL:https://business.sebastopol.org/events/details/lego-club-04-28-2015-5042316
END:VEVENT

END:VCALENDAR
